BEGIN:VCALENDAR
VERSION:2.0
PRODID:-//We the People | Lake Travis - ECPv6.15.20//NONSGML v1.0//EN
CALSCALE:GREGORIAN
METHOD:PUBLISH
X-ORIGINAL-URL:https://wethepeoplelaketravis.com
X-WR-CALDESC:Events for We the People | Lake Travis
REFRESH-INTERVAL;VALUE=DURATION:PT1H
X-Robots-Tag:noindex
X-PUBLISHED-TTL:PT1H
BEGIN:VTIMEZONE
TZID:America/Chicago
BEGIN:DAYLIGHT
TZOFFSETFROM:-0600
TZOFFSETTO:-0500
TZNAME:CDT
DTSTART:20240310T080000
END:DAYLIGHT
BEGIN:STANDARD
TZOFFSETFROM:-0500
TZOFFSETTO:-0600
TZNAME:CST
DTSTART:20241103T070000
END:STANDARD
BEGIN:DAYLIGHT
TZOFFSETFROM:-0600
TZOFFSETTO:-0500
TZNAME:CDT
DTSTART:20250309T080000
END:DAYLIGHT
BEGIN:STANDARD
TZOFFSETFROM:-0500
TZOFFSETTO:-0600
TZNAME:CST
DTSTART:20251102T070000
END:STANDARD
BEGIN:DAYLIGHT
TZOFFSETFROM:-0600
TZOFFSETTO:-0500
TZNAME:CDT
DTSTART:20260308T080000
END:DAYLIGHT
BEGIN:STANDARD
TZOFFSETFROM:-0500
TZOFFSETTO:-0600
TZNAME:CST
DTSTART:20261101T070000
END:STANDARD
END:VTIMEZONE
BEGIN:VEVENT
DTSTART;TZID=America/Chicago:20250402T183000
DTEND;TZID=America/Chicago:20250402T203000
DTSTAMP:20260423T035313
CREATED:20250228T032354Z
LAST-MODIFIED:20250310T223307Z
UID:314219-1743618600-1743625800@wethepeoplelaketravis.com
SUMMARY:LTISD School Board Candidates Forum WTP and LT Democrats are Co-hosting this event
DESCRIPTION:Note the date change! Looking forward to seeing everyone there!
URL:https://wethepeoplelaketravis.com/events/community-meet-and-greet-ltisd-forum/
LOCATION:Rough Hollow (Highland Village) Community Center\, 903 Highlands Blvd\, LAKEWAY\, TX\, 78738\, United States
CATEGORIES:Events,Meetings
ATTACH;FMTTYPE=image/png:https://wethepeoplelaketravis.com/wp-content/uploads/2025/02/final-unity-flyer.png
ORGANIZER;CN="We the People Lake Travis":MAILTO:info@wethepeoplelaketravis.com
END:VEVENT
BEGIN:VEVENT
DTSTART;TZID=America/Chicago:20250422T070000
DTEND;TZID=America/Chicago:20250429T190000
DTSTAMP:20260423T035313
CREATED:20250422T182552Z
LAST-MODIFIED:20250422T185248Z
UID:329565-1745305200-1745953200@wethepeoplelaketravis.com
SUMMARY:Early Voting for LTISD School Board Trustee Elections
DESCRIPTION:This election cycle is critical—common sense\, transparency and truth are on the ballot for LTISD. \n In May 2024\, only 50% of registered voters turned out\, allowing radical leftist incumbents to stay in place to continue defending woke ideologies\, calling it “free speech.” The 2025 leftist candidates are even worse—one openly cringes at the idea that “boys turn into men\,” and the other claims to be a businessman while pushing overpriced “student housing” that exploits families and leaves low-income students behind and will push heavy DEI on our students. \nWe the People Lake Travis Endorse\nthese LTISD Trustee Candidates…\nPlace #3: Jessica Howard \nPlace #4: John Severance \nPlace #5: Craig Cancienne
URL:https://wethepeoplelaketravis.com/events/early-voting-for-ltisd-school-board-trustee-elections/
CATEGORIES:Important Election Dates,LTISD,School Board,Voting
ATTACH;FMTTYPE=image/png:https://wethepeoplelaketravis.com/wp-content/uploads/2025/04/Screenshot-2025-04-19-191451.png
END:VEVENT
BEGIN:VEVENT
DTSTART;TZID=America/Chicago:20250422T070000
DTEND;TZID=America/Chicago:20250429T190000
DTSTAMP:20260423T035313
CREATED:20250422T184321Z
LAST-MODIFIED:20250422T184438Z
UID:329573-1745305200-1745953200@wethepeoplelaketravis.com
SUMMARY:Early Voting for City of Lakeway Propositions
DESCRIPTION:On May 3\, 2025\, a special election will present voters with seven propositions (Propositions A-G) concerning various city matters. Early voting is scheduled from April 22 to April 29\, 2025. Residents are encouraged to REVIEW THE PROPOSITIONS HERE to make informed decisions. \nIt’s essential for community members to engage in these electoral processes\, as the outcomes will influence local governance. \n\n\n\n\nWe the People Lake Travis Recommends…\nVote “YES” on all \nLakeway Propositions A-G \n\n\n\n\nREVIEW THE PROPOSITIONS HERE
URL:https://wethepeoplelaketravis.com/events/early-voting-for-city-of-lakeway-propositions/
CATEGORIES:City Council,City Council,Important Election Dates,Voting
ATTACH;FMTTYPE=image/png:https://wethepeoplelaketravis.com/wp-content/uploads/2025/04/Screenshot-2025-04-22-133417.png
END:VEVENT
BEGIN:VEVENT
DTSTART;TZID=America/Chicago:20250423T180000
DTEND;TZID=America/Chicago:20250423T190000
DTSTAMP:20260423T035313
CREATED:20250422T192519Z
LAST-MODIFIED:20250422T192519Z
UID:329588-1745431200-1745434800@wethepeoplelaketravis.com
SUMMARY:Spicewood Overwatch Weekly Meeting
DESCRIPTION:WTP and LTISD Precinct Chairs will discuss the Election taking place in our community. \nThey will share recommendations and will answer any questions you may have.
URL:https://wethepeoplelaketravis.com/events/spicewood-overwatch-weekly-meeting-19/
LOCATION:Grace Outreach Family Church\, 20808 Highway 71\, Spicewood\, Texas\, 78669
CATEGORIES:Events,Meetings,Voting
ATTACH;FMTTYPE=image/png:https://wethepeoplelaketravis.com/wp-content/uploads/2024/01/unnamed-32.png
END:VEVENT
END:VCALENDAR