BEGIN:VCALENDAR
VERSION:2.0
PRODID:-//We the People | Lake Travis - ECPv6.15.20//NONSGML v1.0//EN
CALSCALE:GREGORIAN
METHOD:PUBLISH
X-ORIGINAL-URL:https://wethepeoplelaketravis.com
X-WR-CALDESC:Events for We the People | Lake Travis
REFRESH-INTERVAL;VALUE=DURATION:PT1H
X-Robots-Tag:noindex
X-PUBLISHED-TTL:PT1H
BEGIN:VTIMEZONE
TZID:America/Chicago
BEGIN:DAYLIGHT
TZOFFSETFROM:-0600
TZOFFSETTO:-0500
TZNAME:CDT
DTSTART:20240310T080000
END:DAYLIGHT
BEGIN:STANDARD
TZOFFSETFROM:-0500
TZOFFSETTO:-0600
TZNAME:CST
DTSTART:20241103T070000
END:STANDARD
BEGIN:DAYLIGHT
TZOFFSETFROM:-0600
TZOFFSETTO:-0500
TZNAME:CDT
DTSTART:20250309T080000
END:DAYLIGHT
BEGIN:STANDARD
TZOFFSETFROM:-0500
TZOFFSETTO:-0600
TZNAME:CST
DTSTART:20251102T070000
END:STANDARD
BEGIN:DAYLIGHT
TZOFFSETFROM:-0600
TZOFFSETTO:-0500
TZNAME:CDT
DTSTART:20260308T080000
END:DAYLIGHT
BEGIN:STANDARD
TZOFFSETFROM:-0500
TZOFFSETTO:-0600
TZNAME:CST
DTSTART:20261101T070000
END:STANDARD
END:VTIMEZONE
BEGIN:VEVENT
DTSTART;TZID=America/Chicago:20250210T183000
DTEND;TZID=America/Chicago:20250210T200000
DTSTAMP:20260419T221205
CREATED:20250209T003843Z
LAST-MODIFIED:20250209T003843Z
UID:308570-1739212200-1739217600@wethepeoplelaketravis.com
SUMMARY:True Texas Hill Country Monthly Meeting
DESCRIPTION:True Texas Project is hosting Terri Hall\, founder of TURF (Texans Uniting for Reform & Freedom)\, who is one of Texas’ most hardworking grassroots activists. She is here to tell us about what we can be doing this legislative session in regards to the double taxation imposed on Texas drivers via toll roads. TURF is a grassroots group of Texans asking for reforms through accountability and good public policy as well as promoting non-toll\, sensible transportation solutions. TURF remains committed to ending eminent domain abuse and works tirelessly to secure a pro-freedom\, pro-taxpayer\, fiscally solvent\, freely-accessible public road policy for all Texans.\n\n\nSpeaker: Terri Hall\nMonday\, February 10th\nOak Hill Baptist Church\, 6907 Convict Hill Rd Austin TX 78749\n6:00pm – Prayer gathering (open to all)\n6:30-8:00pm – meeting\nNo dues. No fees. No memberships. No RSVPs\n\n\nAbout Terri Hall:\nTerri started a taxpayer revolt against tolling existing freeways in 2005. TURF defends property rights & freedom to travel in the legislature & across Texas.
URL:https://wethepeoplelaketravis.com/events/true-texas-hill-country-monthly-meeting/
CATEGORIES:Events,Meetings
ATTACH;FMTTYPE=image/jpeg:https://wethepeoplelaketravis.com/wp-content/uploads/2025/02/467474293_978581594316350_9140192065444287382_n.jpg
END:VEVENT
BEGIN:VEVENT
DTSTART;TZID=America/Chicago:20250216T123000
DTEND;TZID=America/Chicago:20250216T150000
DTSTAMP:20260419T221205
CREATED:20250128T153007Z
LAST-MODIFIED:20250211T021728Z
UID:299832-1739709000-1739718000@wethepeoplelaketravis.com
SUMMARY:Gospel Brunch 2025
DESCRIPTION:Gospel Brunch 2025  \nOur menu:\n\n\nfluffy scrambled eggs\nranch style potatoes\napplewood smoked bacon\nsausage links\nsmoked salmon with whipped cream cheese\, capers\, red onions and toasted bagels\ncarved sirloin station with horseradish cream and Hawaiian rolls\ncrème brûlée bread pudding with maple syrup and whipped butter\n\n\nHosted by We the People | Lake Travis and the Lake Travis Republican Club\n  \n \n \n\nMSB Choir is a small Gospel Choir in the DFW area that performs standard gospel songs\, traditional hymns\, and popular songs in a choral style. Their choir usually consists of 4-6 performers and a piano\, and have performed all over the United States. They have sung for notable clients such as President George Bush\, Texas Governor Greg Abbott\, and President Barack Obama. They have opened for\, and backed up\, notable musicians including members of Earth Wind and Fire\, Mary Wilson from The Supremes\, and Sister Sledge. \n \n  \nRichard V. Battle\, our event emcee\, is an award-winning and Amazon best-seller author of eleven books. He is a media commentator frequently appearing on radio and television and has been a motivational speaker and trainer for over 30 years on leadership\, sales\, and faith. \n \n  \n \n  \n  \n  \n  \n  \n  \n  \n 
URL:https://wethepeoplelaketravis.com/events/gospel_brunch_2025/
LOCATION:Flintrock Falls Country Club\, 401 Jack Nicklaus Dr
CATEGORIES:Events,Meetings
END:VEVENT
END:VCALENDAR