BEGIN:VCALENDAR
VERSION:2.0
PRODID:-//We the People | Lake Travis - ECPv6.15.20//NONSGML v1.0//EN
CALSCALE:GREGORIAN
METHOD:PUBLISH
X-WR-CALNAME:We the People | Lake Travis
X-ORIGINAL-URL:https://wethepeoplelaketravis.com
X-WR-CALDESC:Events for We the People | Lake Travis
REFRESH-INTERVAL;VALUE=DURATION:PT1H
X-Robots-Tag:noindex
X-PUBLISHED-TTL:PT1H
BEGIN:VTIMEZONE
TZID:America/Chicago
BEGIN:DAYLIGHT
TZOFFSETFROM:-0600
TZOFFSETTO:-0500
TZNAME:CDT
DTSTART:20240310T080000
END:DAYLIGHT
BEGIN:STANDARD
TZOFFSETFROM:-0500
TZOFFSETTO:-0600
TZNAME:CST
DTSTART:20241103T070000
END:STANDARD
BEGIN:DAYLIGHT
TZOFFSETFROM:-0600
TZOFFSETTO:-0500
TZNAME:CDT
DTSTART:20250309T080000
END:DAYLIGHT
BEGIN:STANDARD
TZOFFSETFROM:-0500
TZOFFSETTO:-0600
TZNAME:CST
DTSTART:20251102T070000
END:STANDARD
BEGIN:DAYLIGHT
TZOFFSETFROM:-0600
TZOFFSETTO:-0500
TZNAME:CDT
DTSTART:20260308T080000
END:DAYLIGHT
BEGIN:STANDARD
TZOFFSETFROM:-0500
TZOFFSETTO:-0600
TZNAME:CST
DTSTART:20261101T070000
END:STANDARD
END:VTIMEZONE
BEGIN:VEVENT
DTSTART;TZID=America/Chicago:20250107T140000
DTEND;TZID=America/Chicago:20250107T160000
DTSTAMP:20260419T204144
CREATED:20250101T191908Z
LAST-MODIFIED:20250102T175900Z
UID:293440-1736258400-1736265600@wethepeoplelaketravis.com
SUMMARY:Meeting with Ken Paxton and Abraham George
DESCRIPTION:What can we do as citizens of the great State of Texas to help stop Democrat control once and far all? \nLearn from the best at this event!! Show up if you can!
URL:https://wethepeoplelaketravis.com/events/meeting-with-ken-paxton-and-abraham-george/
LOCATION:The Kecseg training room\, 1501 Leander Drive Bldg B\, Leander\, TX\, 78641\, United States
CATEGORIES:Events,Meetings,Political Rallys
ATTACH;FMTTYPE=image/jpeg:https://wethepeoplelaketravis.com/wp-content/uploads/2025/01/472004779_1019093263373385_3658628618639165354_n.jpg
END:VEVENT
BEGIN:VEVENT
DTSTART;TZID=America/Chicago:20250107T183000
DTEND;TZID=America/Chicago:20250107T193000
DTSTAMP:20260419T204144
CREATED:20250102T185216Z
LAST-MODIFIED:20250102T185216Z
UID:293594-1736274600-1736278200@wethepeoplelaketravis.com
SUMMARY:Zoom Call for those heading to the Capitol on January 14th to take back our State!
DESCRIPTION:We encourage everyone going to the Capitol on the 14th to join us for a Zoom call Tuesday\, Jan 7th at 6:30 p.m.\n\nThis call will have useful information for you\, whether you’re riding a bus or going down on your own. \nWe hope you can join us! \nZoom Meeting: https://us02web.zoom.us/j/84524978924… \n\n\nMeeting ID: 845 2497 8924\nPasscode: 043242\n—\nOne tap mobile\n+13462487799\,\,84524978924#\,\,\,\,*043242# US (Houston) \nMore details here https://bandemocratchairsinfo.com/ \n 
URL:https://wethepeoplelaketravis.com/events/zoom-call-for-those-heading-to-the-capitol-on-january-14th-to-take-back-our-state/
CATEGORIES:Events,Meetings,Political Rallys
ATTACH;FMTTYPE=image/jpeg:https://wethepeoplelaketravis.com/wp-content/uploads/2025/01/472180769_122178059408107994_4356929198136258474_n.jpg
END:VEVENT
BEGIN:VEVENT
DTSTART;TZID=America/Chicago:20250113T183000
DTEND;TZID=America/Chicago:20250113T200000
DTSTAMP:20260419T204144
CREATED:20250112T195119Z
LAST-MODIFIED:20250112T195119Z
UID:298703-1736793000-1736798400@wethepeoplelaketravis.com
SUMMARY:True Texas Project Monthly Meeting
DESCRIPTION:Join us in welcoming Bunni Pounds\, the President of Christians Engaged\, as we dive into the topic of her new book Jesus and Politics. Christians Engaged is an organization dedicated to prayer and action for the good of our country. \n“Using her sixteen-year political career as a backdrop\, Bunni Pounds gives readers practical tools for discipling a nation one heart at a time and living the Christian life extravagantly\, even in a hostile environment. In Jesus and Politics\, Pounds lays out the importance of Christians engaging in politics\, government\, and other spheres of influence to impact systems and individuals.” \nAbout Bunni Pounds:\nBunni Pounds is the President and Founder of Christians Engaged. She was a political consultant for 16 years – once leading a firm with 32 clients and 9 people in her office. For years – she worked with Members of Congress running their campaigns. \nShe then ran for Congress herself in 2018 becoming the only woman to make the Republican Runoff Ballot in Texas out of 6 open seats and the only person in the US endorsed by Vice President Mike Pence during the 2018 Primary Season. \nThough she came up short – God has been using her over 20 years of Christian ministry experience and political experience to lead this national ministry today. Christians Engaged has been in more than 125 churches since its launch and has had thousands across the United States take their pledge to pray\, vote\, and engage. They have built the only 501(c)3 voter mobilization communication system in the country and are building a comprehensive on-demand video library of curriculum for the Church on civics and biblical worldview topics. Their goal is to reach 1 million Christians by the 2024 general election. \nA graduate of Christ for the Nations and Dallas Baptist University – above all Bunni loves Jesus and loves sharing the gospel with anyone who will listen – from the halls of Congress to her own hometown. \nBunni has been married to her husband Tim for 28 years. They have 2 grown sons\, both married and 2 precious grandchildren.
URL:https://wethepeoplelaketravis.com/events/true-texas-project-monthly-meeting-10/
LOCATION:Oak Hill Baptist Church\, 6907 Convict Hill RD\, AUSTIN\, TX\, 78749\, United States
CATEGORIES:Events,Meetings
ATTACH;FMTTYPE=image/jpeg:https://wethepeoplelaketravis.com/wp-content/uploads/2025/01/473062428_9620448704632255_2064285121781854288_n.jpg
END:VEVENT
BEGIN:VEVENT
DTSTART;VALUE=DATE:20250114
DTEND;VALUE=DATE:20250115
DTSTAMP:20260419T204144
CREATED:20250101T191036Z
LAST-MODIFIED:20250108T210303Z
UID:293432-1736812800-1736899199@wethepeoplelaketravis.com
SUMMARY:Conservative Rally at the Texas State Capital
DESCRIPTION:January 14: Be part of the “NO DEMOCRAT CHAIRS” and support of a true conservative House Speaker. Join this movement and show your support at the Capitol in person!Sign up to attend so we can get a head count! https://bandemocratchairsinfo.com/#sign\n\n\nhttps://www.youtube.com/watch?v=288o5Dk5TwY\n\nZoom Call recording from Tuesday\, Jan 7th information for all those going to the Capitol on Jan 14th.
URL:https://wethepeoplelaketravis.com/events/conservative-rally-at-the-texas-state-capital/
LOCATION:Texas State Capital\, 1100 Congress Ave\, Austin\, Texas\, 78701
CATEGORIES:Events,Meetings,Political Rallys
ATTACH;FMTTYPE=image/jpeg:https://wethepeoplelaketravis.com/wp-content/uploads/2025/01/472084910_1018411030108275_5713277621702112642_n.jpg
END:VEVENT
BEGIN:VEVENT
DTSTART;TZID=America/Chicago:20250120T110000
DTEND;TZID=America/Chicago:20250120T143000
DTSTAMP:20260419T204144
CREATED:20250101T192611Z
LAST-MODIFIED:20250101T192611Z
UID:293446-1737370800-1737383400@wethepeoplelaketravis.com
SUMMARY:Inauguration Watch Party with local Republicans
DESCRIPTION:https://lu.ma/4ukfkr70 \nCome celebrate Inauguration Day with local Republicans as we watch Trump and Vance be sworn in and see all the wonderful festivities live on screens. \n​This is a free event open for all Republican voters and children thanks to hosts Travis County GOP and Austin Young Republicans. If you can help support event costs\, please chip in $25 for 2025 and you’ll receive “Supporter” on your nametag. If you’d like to Sponsor the event\, you’ll get marketing mentions leading up to the event\, your name/company posted around the venue\, and have an opportunity to speak to guests from the stage. Thank you for supporting your beloved Travis County GOP as we work to advance conservative candidates and policy in the Greater Austin area. \n​As we receive more details on the Inauguration timeline\, we will post it here. The current start and end time is fluid. Stay tuned to this page for updates on timing. \n​Please plan to arrive on time to get checked in\, order a drink and your lunch\, shake hands with fellow conservatives\, and find your seat/spot! \n​Please note all persons who plan to enter the facility must RSVP. We will have security onsite. \n​Sponsors include: \n​Travis County Republican Party \n​Austin Young Republicans \n​Claudia Cuchia
URL:https://wethepeoplelaketravis.com/events/inauguration-watch-party-with-local-republicans/
LOCATION:Golfinity\, 12332 N FM 620 Building B\, Austin\, TX\, 78750\, United States
CATEGORIES:Events,Meetings,Political Rallys
ATTACH;FMTTYPE=image/avif:https://wethepeoplelaketravis.com/wp-content/uploads/2025/01/9ee2b139-ba2d-46fa-ba97-334bb495b09b.avif
END:VEVENT
BEGIN:VEVENT
DTSTART;TZID=America/Chicago:20250121T113000
DTEND;TZID=America/Chicago:20250121T130000
DTSTAMP:20260419T204144
CREATED:20250112T200044Z
LAST-MODIFIED:20250113T160226Z
UID:298716-1737459000-1737464400@wethepeoplelaketravis.com
SUMMARY:Lake Travis Republican Club Monthly Meeting
DESCRIPTION:Speaker- Larry Harlan\nhttps://www.laketravisrepublicanclubtx.com/event-details/lake-travis-republican-club-january-2025-meeting\nAbout the Event\n\n\n\nLarry Harlan was born in 1955 and earned a BBA degree in Petroleum Land Management from the University of Texas in 1978 and an MBA from Oklahoma City University in 1982.  In December 2013 he retired from Exxon Mobil Corporation following a career just short of 35 years.  He spent the first 14 years of his career in the Land Department with assignments covering the U.S. mid-continent\, south Texas\, Gulf Coast and federal offshore areas of exploration and production operations.  In 1993 he moved into the Public and Government Affairs Department with assignments in Exxon Pipeline Company\, Exxon Ventures CIS (former Soviet Union)\, ExxonMobil Chemical Company\, ExxonMobil State Government Affairs Manager and ExxonMobil Development Company.  \n  \nIn 2010 he moved to Exxon Mobil Corporation as Corporate Citizenship and Community Investment Manager which included serving as Executive Director of the ExxonMobil Foundation.  During these assignments\, he had responsibilities and contacts with ExxonMobil operations and affiliates around the world.  While working for ExxonMobil he was active in industry trade associations and committees including the Association of Professional Landmen\, Association of Petroleum Pipelines\, American Chemistry Council\, and the American Petroleum Institute.  From 2017 to 2021\, Mr.  Harlan served as Executive Director of TOPCORP\, a consortium of the University of Texas at Austin\, Colorado School of Mines and Penn State University providing oil and gas training for regulatory inspectors from petroleum producing states and provinces.  \n  \nMr. Harlan and his family have lived in Lakeway\, Texas since 2014 and are active in community affairs.  He chaired the 2020 City of Lakeway Comprehensive Plan Committee and is presently a member of the Lakeway Economic Development Committee.  Mr. Harlan also serves on the Board of Water Control and Improvement District (WCID) 17.
URL:https://wethepeoplelaketravis.com/events/lake-travis-republican-club-monthly-meeting/
LOCATION:Flintrock Falls Country Club\, 401 Jack Nicklaus Dr
CATEGORIES:Events,Meetings
ATTACH;FMTTYPE=image/png:https://wethepeoplelaketravis.com/wp-content/uploads/2023/12/243210909_226919096147738_3049199326766233348_n.png
END:VEVENT
BEGIN:VEVENT
DTSTART;TZID=America/Chicago:20250122T173000
DTEND;TZID=America/Chicago:20250122T200000
DTSTAMP:20260419T204144
CREATED:20250122T174248Z
LAST-MODIFIED:20250122T174248Z
UID:302330-1737567000-1737576000@wethepeoplelaketravis.com
SUMMARY:LTISD School Board "Special" Meeting Tonight!
DESCRIPTION:Transparency and accountability in public education are crucial for ensuring\nthat taxpayer dollars are used effectively and that students receive a quality education.\nHopefully LTISD Parents\, students\, taxpayers\, and employees will start getting some answers tonight!\nhttps://meetings.boardbook.org/Public/Agenda/900?meeting=672052
URL:https://wethepeoplelaketravis.com/events/ltisd-school-board-special-meeting-tonight/
LOCATION:LTISD Educational Development Center\, 607 RR 620 N.\, Austin\, TX\, 78734\, United States
CATEGORIES:Events,Meetings,School Board
ATTACH;FMTTYPE=image/jpeg:https://wethepeoplelaketravis.com/wp-content/uploads/2025/01/istockphoto-944043026-612x612-1.jpg
END:VEVENT
BEGIN:VEVENT
DTSTART;TZID=America/Chicago:20250125T130000
DTEND;TZID=America/Chicago:20250125T160000
DTSTAMP:20260419T204144
CREATED:20250108T190736Z
LAST-MODIFIED:20250108T190736Z
UID:296649-1737810000-1737820800@wethepeoplelaketravis.com
SUMMARY:Texas Rally for Life
DESCRIPTION:Join THOUSANDS of fellow pro-life Texans at 14th and Brazos to grab signs and\ndrop off diapers for the diaper drive before heading to the north side of the Capitol\, where we will gather for the march.\nJoin thousands of Texans from across the state at the 2025 Texas Rally for Life.\nShow our elected officials\, the media\, and the Supreme Court that Texas is pro-life!\nThis event commemorates the Supreme Court’s tragic Roe v. Wade decision that imposed legal abortion on Texas and\nthe entire nation throughout all nine months of pregnancy and celebrates the overturning of the terrible precedent set in 1973…\nlet’s continue the work of turning the tide against this injustice.\nTo join the host committee\, email Deirdre Cooper at Deirdre@TexasAllianceforLife.org\n\nhttps://www.facebook.com/share/18c1f6m9KW/
URL:https://wethepeoplelaketravis.com/events/texas-rally-for-life/
LOCATION:Texas State Capital\, 1100 Congress Ave\, Austin\, Texas\, 78701
CATEGORIES:Events,Meetings,Political Rallys
ATTACH;FMTTYPE=image/jpeg:https://wethepeoplelaketravis.com/wp-content/uploads/2025/01/469706995_1094926222674249_8460154271398207685_n.jpg
END:VEVENT
END:VCALENDAR