BEGIN:VCALENDAR
VERSION:2.0
PRODID:-//We the People | Lake Travis - ECPv6.15.20//NONSGML v1.0//EN
CALSCALE:GREGORIAN
METHOD:PUBLISH
X-WR-CALNAME:We the People | Lake Travis
X-ORIGINAL-URL:https://wethepeoplelaketravis.com
X-WR-CALDESC:Events for We the People | Lake Travis
REFRESH-INTERVAL;VALUE=DURATION:PT1H
X-Robots-Tag:noindex
X-PUBLISHED-TTL:PT1H
BEGIN:VTIMEZONE
TZID:America/Chicago
BEGIN:DAYLIGHT
TZOFFSETFROM:-0600
TZOFFSETTO:-0500
TZNAME:CDT
DTSTART:20230312T080000
END:DAYLIGHT
BEGIN:STANDARD
TZOFFSETFROM:-0500
TZOFFSETTO:-0600
TZNAME:CST
DTSTART:20231105T070000
END:STANDARD
BEGIN:DAYLIGHT
TZOFFSETFROM:-0600
TZOFFSETTO:-0500
TZNAME:CDT
DTSTART:20240310T080000
END:DAYLIGHT
BEGIN:STANDARD
TZOFFSETFROM:-0500
TZOFFSETTO:-0600
TZNAME:CST
DTSTART:20241103T070000
END:STANDARD
BEGIN:DAYLIGHT
TZOFFSETFROM:-0600
TZOFFSETTO:-0500
TZNAME:CDT
DTSTART:20250309T080000
END:DAYLIGHT
BEGIN:STANDARD
TZOFFSETFROM:-0500
TZOFFSETTO:-0600
TZNAME:CST
DTSTART:20251102T070000
END:STANDARD
END:VTIMEZONE
BEGIN:VEVENT
DTSTART;TZID=America/Chicago:20241101T070000
DTEND;TZID=America/Chicago:20241101T190000
DTSTAMP:20260420T120911
CREATED:20241101T170035Z
LAST-MODIFIED:20241101T175541Z
UID:256956-1730444400-1730487600@wethepeoplelaketravis.com
SUMMARY:Early Voting ends Today- FRIDAY November 1st 2024
DESCRIPTION:Take the extra step of REVIEWING YOUR BALLOT before you submit it. See image below for the recommended process. \nAfter voting\, make sure to review your choices on the screen and then on the printed ballot before taking it to the second machine\, which scans your ballot info. \n  \n \nHave a plan to VOTE! Early voting is encouraged to make sure this election is TOO BIG TO RIG!! \nClick on this link to find out what your families household specifically will be voting on! \nhttps://traviscountygop.org/candidates \n 
URL:https://wethepeoplelaketravis.com/events/early-voting-ends-today-friday-november-1st-2024/
CATEGORIES:Events,Important Election Dates,Meetings
ATTACH;FMTTYPE=image/jpeg:https://wethepeoplelaketravis.com/wp-content/uploads/2024/11/signal-2024-11-01-124304_002.jpeg
END:VEVENT
BEGIN:VEVENT
DTSTART;TZID=America/Chicago:20241102T090000
DTEND;TZID=America/Chicago:20241102T100000
DTSTAMP:20260420T120911
CREATED:20241102T015204Z
LAST-MODIFIED:20241102T015204Z
UID:257872-1730538000-1730541600@wethepeoplelaketravis.com
SUMMARY:Trump Event with Ken Paxton (Zoom Call)
DESCRIPTION:https://app.trumpforce47.com/event/trump-captains-day-of-action-kickoff-with-tx-attorney-general-ken-paxton-8014
URL:https://wethepeoplelaketravis.com/events/trump-event-with-ken-paxton-zoom-call/
CATEGORIES:Events,Meetings
ATTACH;FMTTYPE=image/png:https://wethepeoplelaketravis.com/wp-content/uploads/2024/11/Trump-Force-Full-Color.png
END:VEVENT
BEGIN:VEVENT
DTSTART;TZID=America/Chicago:20241102T090000
DTEND;TZID=America/Chicago:20241102T110000
DTSTAMP:20260420T120911
CREATED:20241029T185857Z
LAST-MODIFIED:20241029T185857Z
UID:256373-1730538000-1730545200@wethepeoplelaketravis.com
SUMMARY:Final Block Walk- 2024 Election November 2nd!
DESCRIPTION:SATURDAY\, Nov. 2 Travis County Republican Clubs Last push!!\nFINAL Block Walk of the 2024 Election\, 9 a.m. This is the big one\, folks\, and we need ALL hands on deck! \nJoin us at the Victory Office (at our Western Field HQ\, just off 2222 at Vaught Ranch Road) for our last consolidated block walk event of the election year! We’re asking everyone to walk a block or two of targeted Republican houses. If you’re unable to walk\, consider making a few calls for the effort. \nWe’ll have breakfast tacos (while supplies last)\, some elected officials\, and a few surprise guests to help kick things off! \nRSVP and details as they come together: https://lu.ma/pf4ewtq7
URL:https://wethepeoplelaketravis.com/events/final-block-walk-2024-election-november-2nd/
LOCATION:Victory Office\, 6601 Vaught Ranch Road\, Austin\, TX\, 78730\, United States
CATEGORIES:Events,Meetings,Political Rallys
ATTACH;FMTTYPE=image/avif:https://wethepeoplelaketravis.com/wp-content/uploads/2024/10/bb947466-5989-4269-a46e-0b809c20350b.avif
END:VEVENT
BEGIN:VEVENT
DTSTART;TZID=America/Chicago:20241105T070000
DTEND;TZID=America/Chicago:20241105T190000
DTSTAMP:20260420T120911
CREATED:20240906T210833Z
LAST-MODIFIED:20241103T020422Z
UID:231107-1730790000-1730833200@wethepeoplelaketravis.com
SUMMARY:ELECTION DAY November 5th 2024 Vote Vote Vote!
DESCRIPTION:Take the extra step of REVIEWING YOUR BALLOT before you submit it. \nSee image above for the recommended process.\nAfter voting\, make sure to review your choices on the screen and then on the printed ballot \nbefore taking it to the second machine\, which scans your ballot info. \nTake this seriously. Show up\, vote!! \nLet’s be courageous together\, as we hold fast to Liberty.\nLET’S SAVE AMERICA!!
URL:https://wethepeoplelaketravis.com/events/election-day-november-5th-2024-save-america/
CATEGORIES:Events,Important Election Dates,Voting
ATTACH;FMTTYPE=image/jpeg:https://wethepeoplelaketravis.com/wp-content/uploads/2024/09/signal-2024-10-11-123443_002-e1728917040266.jpeg
END:VEVENT
BEGIN:VEVENT
DTSTART;TZID=America/Chicago:20241105T170000
DTEND;TZID=America/Chicago:20241105T223000
DTSTAMP:20260420T120911
CREATED:20241104T194711Z
LAST-MODIFIED:20241104T194711Z
UID:259074-1730826000-1730845800@wethepeoplelaketravis.com
SUMMARY:One Shot Distillery Election Watch Party!
DESCRIPTION:Fun place to hang out with like minded Patriots! \n 
URL:https://wethepeoplelaketravis.com/events/one-shot-distillery-election-watch-party/
LOCATION:One Shot Distillery & Brewery\, 31610 Ranch Rd 12\, Dripping Springs\, Texas\, 78620
CATEGORIES:Events,Meetings
ATTACH;FMTTYPE=image/jpeg:https://wethepeoplelaketravis.com/wp-content/uploads/2024/11/OSDS_Election_Watch_Party.jpg
END:VEVENT
BEGIN:VEVENT
DTSTART;TZID=America/Chicago:20241105T190000
DTEND;TZID=America/Chicago:20241105T223000
DTSTAMP:20260420T120911
CREATED:20241104T193222Z
LAST-MODIFIED:20241104T193222Z
UID:259066-1730833200-1730845800@wethepeoplelaketravis.com
SUMMARY:GOP Election Night Watch Party! Click on Link to register!
DESCRIPTION:After the polls close\, come watch the election results roll in with fellow Republicans in Travis County!\n​We will watch national news for the top-of-the-ticket races and the Travis Co Clerk’s website for the local candidate races. We will have a few remarks by candidates and local leaders throughout the night.\n​Please bring a photo ID at check in and be prepared to show your tickets for this event. Please note we will have armed security officers present. All guests MUST RSVP by Monday\, Nov. 4th by 11p.m. to gain entry.\n​You will have access to food and beverages for purchase\, and remember to tip your servers well!\nRegister Here https://lu.ma/3drz1298\n​
URL:https://wethepeoplelaketravis.com/events/gop-election-night-watch-party-click-on-link-to-register/
CATEGORIES:Events,Meetings
ATTACH;FMTTYPE=image/png:https://wethepeoplelaketravis.com/wp-content/uploads/2024/11/signal-2024-11-04-133046_002.png
END:VEVENT
BEGIN:VEVENT
DTSTART;TZID=America/Chicago:20241106T180000
DTEND;TZID=America/Chicago:20241106T190000
DTSTAMP:20260420T120911
CREATED:20241104T203539Z
LAST-MODIFIED:20241104T203539Z
UID:259111-1730916000-1730919600@wethepeoplelaketravis.com
SUMMARY:Spicewood Overwatch Weekly Meeting
DESCRIPTION:Spicewood Overwatch is a local group focused on emergency preparedness and a neighborhood watch group. \nMeeting time: 6pm\nWe look forward to seeing you there!\nFind more information HERE.
URL:https://wethepeoplelaketravis.com/events/spicewood-overwatch-weekly-meeting-17/
LOCATION:Grace Outreach Family Church\, 20808 Highway 71\, Spicewood\, Texas\, 78669
CATEGORIES:Events,Meetings
ATTACH;FMTTYPE=image/png:https://wethepeoplelaketravis.com/wp-content/uploads/2023/09/signal-2023-09-25-184044_002.png
END:VEVENT
BEGIN:VEVENT
DTSTART;VALUE=DATE:20241111
DTEND;VALUE=DATE:20241112
DTSTAMP:20260420T120911
CREATED:20241111T190758Z
LAST-MODIFIED:20241111T190758Z
UID:262079-1731283200-1731369599@wethepeoplelaketravis.com
SUMMARY:November 11th 2024 Veterans Day
DESCRIPTION:Veterans Day (originally known as Armistice Day) is a Federal holiday in the United States observed annually on November 11\, for honoring military veterans of the United States Armed Forces. It coincides with holidays in several countries\, including Armistice day and Remembrance day\, which also occur on the anniversary of the end of World War I. Major hostilities of World War I were formally ended at the 11th hour of the 11th day of the 11th month of 1918 when the Armistice with Germany went into effect. At the urging of major U.S. veteran organizations\, Armistice Day was renamed Veterans Day in 1954. Veterans Day is distinct from Memorial Day\, a U.S. public holiday in May: Veterans Day commemorates the service of all U.S. veterans\, while the older Memorial Day\, which grew out of Civil War commemorations\, specifically honors those who have died while in military service.
URL:https://wethepeoplelaketravis.com/events/november-11th-2024-veterans-day/
LOCATION:VENUE: AMERICA
CATEGORIES:Events,Meetings
ATTACH;FMTTYPE=image/jpeg:https://wethepeoplelaketravis.com/wp-content/uploads/2024/11/3f61e25beab621b8e37783e03fb31e05.jpg
END:VEVENT
BEGIN:VEVENT
DTSTART;TZID=America/Chicago:20241111T110000
DTEND;TZID=America/Chicago:20241111T130000
DTSTAMP:20260420T120911
CREATED:20241109T014742Z
LAST-MODIFIED:20241109T014835Z
UID:261523-1731322800-1731330000@wethepeoplelaketravis.com
SUMMARY:Lakeway 2024 Veterans Day Ceremony
DESCRIPTION:Please join us for the City of Lakeway’s annual Veterans Day Ceremony on \nMonday\, November 11\, 2024 at 11 AM at the Lakeway Activity Center.\n This is a FREE community event as we come together to honor our military veterans. \n  \nhttps://www.lakeway-tx.gov/DocumentCenter/View/43705/Veterans-Day-Program
URL:https://wethepeoplelaketravis.com/events/lakeway-2024-veterans-day-ceremony/
LOCATION:Lakeway Activity Center\, 105 Cross Creek Lakeway\, TX 78734
CATEGORIES:Events,Meetings
ATTACH;FMTTYPE=image/png:https://wethepeoplelaketravis.com/wp-content/uploads/2024/11/Document-2.png
END:VEVENT
BEGIN:VEVENT
DTSTART;TZID=America/Chicago:20241111T183000
DTEND;TZID=America/Chicago:20241111T200000
DTSTAMP:20260420T120911
CREATED:20241104T215601Z
LAST-MODIFIED:20241104T215601Z
UID:259137-1731349800-1731355200@wethepeoplelaketravis.com
SUMMARY:True Texas Project Hill Country: Saving Texas From the Globalists
DESCRIPTION:Globalists would like to Flip Texas. Let’s ensure Texas stays red\, and stays committed to God\, Family\, Country and the Constitution. \nThis month at True Texas Project we welcome Col (Ret) Larry Kaifesh to share with us concerning the globalist threat that is encroaching on our freedom here in the U.S.\, and specifically\, Texas. Larry has extensive experience and knowledge in the world of foreign affairs and national security. He is a Texas transplant\, but is just as passionate as we are about keeping Texas red\, and holding self-proclaimed “conservative republican” elected officials accountable. Texas is the last stalwart of American freedom and greatness\, and even she is falling into the globalist donor-class’ hands. We must put an end to this\, and we must save Texas! \nSpeaker: Larry Kaifesh\nMonday\, November 11th\nOak Hill Baptist Church\, 6907 Convict Hill Rd. Austin\, TX 78749\n5:45pm – Prayer gathering (open to all)\n6:30-8:00pm – meeting\nNo dues. No fees. No memberships. No RSVPs
URL:https://wethepeoplelaketravis.com/events/true-texas-project-hill-country-saving-texas-from-the-globalists/
LOCATION:Oak Hill Baptist Church\, 6907 Convict Hill RD\, AUSTIN\, TX\, 78749\, United States
CATEGORIES:Events,Meetings
ATTACH;FMTTYPE=image/png:https://wethepeoplelaketravis.com/wp-content/uploads/2024/11/unnamed-18.png
END:VEVENT
BEGIN:VEVENT
DTSTART;TZID=America/Chicago:20241113T180000
DTEND;TZID=America/Chicago:20241113T190000
DTSTAMP:20260420T120911
CREATED:20241112T221435Z
LAST-MODIFIED:20241112T221435Z
UID:262611-1731520800-1731524400@wethepeoplelaketravis.com
SUMMARY:Spicewood Overwatch Weekly Meeting
DESCRIPTION:Spicewood Overwatch is a local group focused on emergency preparedness and a neighborhood watch group. \nAs always\, all are welcome and bring a friend! \nMeeting location: \nGrace Outreach Family Church \n20808 Highway 71  Spicewood\, Texas 78669 \nMeeting time: 6pm\nWe look forward to seeing you there! \nFind more information HERE.
URL:https://wethepeoplelaketravis.com/events/spicewood-overwatch-weekly-meeting-18/
LOCATION:Grace Outreach Family Church\, 20808 Highway 71\, Spicewood\, Texas\, 78669
CATEGORIES:Events,Meetings
ATTACH;FMTTYPE=image/png:https://wethepeoplelaketravis.com/wp-content/uploads/2024/01/unnamed-32.png
END:VEVENT
BEGIN:VEVENT
DTSTART;TZID=America/Chicago:20241119T113000
DTEND;TZID=America/Chicago:20241119T130000
DTSTAMP:20260420T120911
CREATED:20241112T222414Z
LAST-MODIFIED:20241112T222446Z
UID:262614-1732015800-1732021200@wethepeoplelaketravis.com
SUMMARY:Lake Travis Republican Club hosts Senator Bob Hall
DESCRIPTION:State Senator Bob Hall is our November speaker.  Currently in the 88th Legislature\, Texas Senator Bob Hall\, is the Chairman of the vital Senate Committee on Administration and an influential voting member on the Senate Committee of Finance\, Health and Human Services\, Local Government\, and Veteran Affairs.  He has earned the reputation of being open minded and willing to discuss ideas but absolutely unwavering in holding to his core conservative principles and Judeo-Christian values.  He is a man who believes in the Declaration of Independence and follows the Constitution.  He is pro-life\, pro-gun\, pro-liberty\, pro-property rights\, pro Judeo-Christian conservative values\, a staunch proponent of the free market\, fiscally responsible\, and pro-limited government.  Senator Hall was instrumental in making Texas a 2nd Amendment Sanctuary State\, as well as\, protecting religious organizations and churches from Government shutdown. \n \nAfter the Air Force he worked in the Aerospace industry as a systems engineer and business development manager.  In 1982 he left the corporate world and began working as an independent proposal consultant to aerospace and defense corporations.  Then in 1984 he formed his own company\, Professional Proposal Management\, Inc. \n \nA compelling sense of duty\, shaped by his military service\, business experience\, and love for this country\, drives him to leave behind the legacy of a patriotic servant for his children and grandchildren.  Envisioning their futures compelled him to become actively involved in the state’s political process and strongly believes it is time to stand in the gap for our children\, our liberties and our future.
URL:https://wethepeoplelaketravis.com/events/lake-travis-republican-club-hosts-senator-bob-hall/
LOCATION:Flintrock Falls Country Club\, 401 Jack Nicklaus Dr
CATEGORIES:Events,Meetings
ATTACH;FMTTYPE=image/png:https://wethepeoplelaketravis.com/wp-content/uploads/2023/12/243210909_226919096147738_3049199326766233348_n.png
END:VEVENT
BEGIN:VEVENT
DTSTART;TZID=America/Chicago:20241120T180000
DTEND;TZID=America/Chicago:20241120T190000
DTSTAMP:20260420T120911
CREATED:20241109T022347Z
LAST-MODIFIED:20241109T022347Z
UID:261529-1732125600-1732129200@wethepeoplelaketravis.com
SUMMARY:LTISD Monthly School Board Meeting
DESCRIPTION:LTISD Update: In November 2022 and 2023\, LTISD voters were persuaded to approve $758M in bonds partially based on the narrative that we were a high growth district. \nIn January 2024\, the PASA demographers confessed they were very wrong about the data. Major modifications are being made on how to spend all the bond money\, including a major reduction to the second high school.  The voters approved $50M to build Elementary #8. As of the October board meeting\, the District is asking the Board to approve a $27M overspend….a 65% increase. \nSince 2020\, an average of 1\,000 students leave LTISD every school year. No campus is over capacity except the High School and only by 67 students.  If $27 million dollars seems like a lot of money to you\, please come to this Board meeting and/or reach out to the Board at ltisdschools.org. \nAs taxpayers\, we should be asking hard questions and requiring documented data and comparisons before the District is allowed to spend ANY money over budget.  How about a bond oversight committee made up of community members that does not include District staff?
URL:https://wethepeoplelaketravis.com/events/ltisd-monthly-school-board-meeting-13/
LOCATION:LTISD Educational Development Center\, 607 RR 620 N.\, Austin\, TX\, 78734\, United States
CATEGORIES:Events,Meetings,School Board
ATTACH;FMTTYPE=image/jpeg:https://wethepeoplelaketravis.com/wp-content/uploads/2022/05/1_schoolboardmeeting.jpg
END:VEVENT
BEGIN:VEVENT
DTSTART;TZID=America/Chicago:20241120T180000
DTEND;TZID=America/Chicago:20241120T193000
DTSTAMP:20260420T120911
CREATED:20241120T185158Z
LAST-MODIFIED:20241120T185213Z
UID:266196-1732125600-1732131000@wethepeoplelaketravis.com
SUMMARY:Overwatch Weekly Meeting
DESCRIPTION:Spicewood Overwatch is a local group focused on emergency preparedness and a neighborhood watch group. \nThis week will be a Potluck dinner to celebrate the upcoming Thanksgiving Holiday!
URL:https://wethepeoplelaketravis.com/events/overwatch-weekly-meeting/
LOCATION:Grace Outreach Family Church\, 20808 Highway 71\, Spicewood\, Texas\, 78669
CATEGORIES:Events,Meetings
ATTACH;FMTTYPE=image/png:https://wethepeoplelaketravis.com/wp-content/uploads/2024/01/unnamed-32.png
END:VEVENT
END:VCALENDAR