BEGIN:VCALENDAR
VERSION:2.0
PRODID:-//We the People | Lake Travis - ECPv6.15.20//NONSGML v1.0//EN
CALSCALE:GREGORIAN
METHOD:PUBLISH
X-WR-CALNAME:We the People | Lake Travis
X-ORIGINAL-URL:https://wethepeoplelaketravis.com
X-WR-CALDESC:Events for We the People | Lake Travis
REFRESH-INTERVAL;VALUE=DURATION:PT1H
X-Robots-Tag:noindex
X-PUBLISHED-TTL:PT1H
BEGIN:VTIMEZONE
TZID:America/Chicago
BEGIN:DAYLIGHT
TZOFFSETFROM:-0600
TZOFFSETTO:-0500
TZNAME:CDT
DTSTART:20250309T080000
END:DAYLIGHT
BEGIN:STANDARD
TZOFFSETFROM:-0500
TZOFFSETTO:-0600
TZNAME:CST
DTSTART:20251102T070000
END:STANDARD
BEGIN:DAYLIGHT
TZOFFSETFROM:-0600
TZOFFSETTO:-0500
TZNAME:CDT
DTSTART:20260308T080000
END:DAYLIGHT
BEGIN:STANDARD
TZOFFSETFROM:-0500
TZOFFSETTO:-0600
TZNAME:CST
DTSTART:20261101T070000
END:STANDARD
BEGIN:DAYLIGHT
TZOFFSETFROM:-0600
TZOFFSETTO:-0500
TZNAME:CDT
DTSTART:20270314T080000
END:DAYLIGHT
BEGIN:STANDARD
TZOFFSETFROM:-0500
TZOFFSETTO:-0600
TZNAME:CST
DTSTART:20271107T070000
END:STANDARD
END:VTIMEZONE
BEGIN:VEVENT
DTSTART;TZID=America/Chicago:20260207T090000
DTEND;TZID=America/Chicago:20260207T160000
DTSTAMP:20260423T142759
CREATED:20260115T210056Z
LAST-MODIFIED:20260203T024036Z
UID:390483-1770454800-1770480000@wethepeoplelaketravis.com
SUMMARY:Call to Action with Jennifer Mushtaler Candidate for Texas House District 47
DESCRIPTION:Jennifer is running probably the most difficult race this year in Texas House District 47.\nThis seat has been held by a Democrat for\, well\, many\, many years.\nShe has the talent\, the drive\, and tenacity to win this race! \nHere are the details>>> There will be two shifts on Saturday\, February 7th  Location:  Grace Outreach Family Church (20808 State Hwy 71\, Spicewood\, TX) \n9am – 12pm and again 1pm – 4pm.  But even if you can’t work a full shift\, please come and do what you can!  No block-walking is involved (this time). \nWe will be stuffing prepared stamped envelopes with hand writing addressing as well as making some phone calls to potential donors to Jennifer’s campaign. \nPlease also check out Jennifer’s website here https://www.drjenfortexas.com/\nYou can also make a much needed contribution to her campaign.
URL:https://wethepeoplelaketravis.com/events/call-to-action-with-jennifer-mushtaler-candidate-for-texas-house-district-47/
LOCATION:Grace Outreach Family Church\, 20808 Highway 71\, Spicewood\, Texas\, 78669
CATEGORIES:Events,Meetings,Voting
ATTACH;FMTTYPE=image/jpeg:https://wethepeoplelaketravis.com/wp-content/uploads/2026/01/IMG_8890.jpg
END:VEVENT
END:VCALENDAR