BEGIN:VCALENDAR
VERSION:2.0
PRODID:-//We the People | Lake Travis - ECPv6.15.20//NONSGML v1.0//EN
CALSCALE:GREGORIAN
METHOD:PUBLISH
X-ORIGINAL-URL:https://wethepeoplelaketravis.com
X-WR-CALDESC:Events for We the People | Lake Travis
REFRESH-INTERVAL;VALUE=DURATION:PT1H
X-Robots-Tag:noindex
X-PUBLISHED-TTL:PT1H
BEGIN:VTIMEZONE
TZID:America/Chicago
BEGIN:DAYLIGHT
TZOFFSETFROM:-0600
TZOFFSETTO:-0500
TZNAME:CDT
DTSTART:19690427T080000
END:DAYLIGHT
BEGIN:STANDARD
TZOFFSETFROM:-0500
TZOFFSETTO:-0600
TZNAME:CST
DTSTART:19691026T070000
END:STANDARD
BEGIN:DAYLIGHT
TZOFFSETFROM:-0600
TZOFFSETTO:-0500
TZNAME:CDT
DTSTART:19700426T080000
END:DAYLIGHT
BEGIN:STANDARD
TZOFFSETFROM:-0500
TZOFFSETTO:-0600
TZNAME:CST
DTSTART:19701025T070000
END:STANDARD
BEGIN:DAYLIGHT
TZOFFSETFROM:-0600
TZOFFSETTO:-0500
TZNAME:CDT
DTSTART:19710425T080000
END:DAYLIGHT
BEGIN:STANDARD
TZOFFSETFROM:-0500
TZOFFSETTO:-0600
TZNAME:CST
DTSTART:19711031T070000
END:STANDARD
BEGIN:DAYLIGHT
TZOFFSETFROM:-0600
TZOFFSETTO:-0500
TZNAME:CDT
DTSTART:19720430T080000
END:DAYLIGHT
BEGIN:STANDARD
TZOFFSETFROM:-0500
TZOFFSETTO:-0600
TZNAME:CST
DTSTART:19721029T070000
END:STANDARD
BEGIN:DAYLIGHT
TZOFFSETFROM:-0600
TZOFFSETTO:-0500
TZNAME:CDT
DTSTART:19730429T080000
END:DAYLIGHT
BEGIN:STANDARD
TZOFFSETFROM:-0500
TZOFFSETTO:-0600
TZNAME:CST
DTSTART:19731028T070000
END:STANDARD
BEGIN:DAYLIGHT
TZOFFSETFROM:-0600
TZOFFSETTO:-0500
TZNAME:CDT
DTSTART:19740106T080000
END:DAYLIGHT
BEGIN:STANDARD
TZOFFSETFROM:-0500
TZOFFSETTO:-0600
TZNAME:CST
DTSTART:19741027T070000
END:STANDARD
BEGIN:DAYLIGHT
TZOFFSETFROM:-0600
TZOFFSETTO:-0500
TZNAME:CDT
DTSTART:19750223T080000
END:DAYLIGHT
BEGIN:STANDARD
TZOFFSETFROM:-0500
TZOFFSETTO:-0600
TZNAME:CST
DTSTART:19751026T070000
END:STANDARD
BEGIN:DAYLIGHT
TZOFFSETFROM:-0600
TZOFFSETTO:-0500
TZNAME:CDT
DTSTART:19760425T080000
END:DAYLIGHT
BEGIN:STANDARD
TZOFFSETFROM:-0500
TZOFFSETTO:-0600
TZNAME:CST
DTSTART:19761031T070000
END:STANDARD
BEGIN:DAYLIGHT
TZOFFSETFROM:-0600
TZOFFSETTO:-0500
TZNAME:CDT
DTSTART:19770424T080000
END:DAYLIGHT
BEGIN:STANDARD
TZOFFSETFROM:-0500
TZOFFSETTO:-0600
TZNAME:CST
DTSTART:19771030T070000
END:STANDARD
BEGIN:DAYLIGHT
TZOFFSETFROM:-0600
TZOFFSETTO:-0500
TZNAME:CDT
DTSTART:19780430T080000
END:DAYLIGHT
BEGIN:STANDARD
TZOFFSETFROM:-0500
TZOFFSETTO:-0600
TZNAME:CST
DTSTART:19781029T070000
END:STANDARD
BEGIN:DAYLIGHT
TZOFFSETFROM:-0600
TZOFFSETTO:-0500
TZNAME:CDT
DTSTART:19790429T080000
END:DAYLIGHT
BEGIN:STANDARD
TZOFFSETFROM:-0500
TZOFFSETTO:-0600
TZNAME:CST
DTSTART:19791028T070000
END:STANDARD
BEGIN:DAYLIGHT
TZOFFSETFROM:-0600
TZOFFSETTO:-0500
TZNAME:CDT
DTSTART:19800427T080000
END:DAYLIGHT
BEGIN:STANDARD
TZOFFSETFROM:-0500
TZOFFSETTO:-0600
TZNAME:CST
DTSTART:19801026T070000
END:STANDARD
BEGIN:DAYLIGHT
TZOFFSETFROM:-0600
TZOFFSETTO:-0500
TZNAME:CDT
DTSTART:19810426T080000
END:DAYLIGHT
BEGIN:STANDARD
TZOFFSETFROM:-0500
TZOFFSETTO:-0600
TZNAME:CST
DTSTART:19811025T070000
END:STANDARD
BEGIN:DAYLIGHT
TZOFFSETFROM:-0600
TZOFFSETTO:-0500
TZNAME:CDT
DTSTART:19820425T080000
END:DAYLIGHT
BEGIN:STANDARD
TZOFFSETFROM:-0500
TZOFFSETTO:-0600
TZNAME:CST
DTSTART:19821031T070000
END:STANDARD
BEGIN:DAYLIGHT
TZOFFSETFROM:-0600
TZOFFSETTO:-0500
TZNAME:CDT
DTSTART:19830424T080000
END:DAYLIGHT
BEGIN:STANDARD
TZOFFSETFROM:-0500
TZOFFSETTO:-0600
TZNAME:CST
DTSTART:19831030T070000
END:STANDARD
BEGIN:DAYLIGHT
TZOFFSETFROM:-0600
TZOFFSETTO:-0500
TZNAME:CDT
DTSTART:19840429T080000
END:DAYLIGHT
BEGIN:STANDARD
TZOFFSETFROM:-0500
TZOFFSETTO:-0600
TZNAME:CST
DTSTART:19841028T070000
END:STANDARD
BEGIN:DAYLIGHT
TZOFFSETFROM:-0600
TZOFFSETTO:-0500
TZNAME:CDT
DTSTART:19850428T080000
END:DAYLIGHT
BEGIN:STANDARD
TZOFFSETFROM:-0500
TZOFFSETTO:-0600
TZNAME:CST
DTSTART:19851027T070000
END:STANDARD
BEGIN:DAYLIGHT
TZOFFSETFROM:-0600
TZOFFSETTO:-0500
TZNAME:CDT
DTSTART:19860427T080000
END:DAYLIGHT
BEGIN:STANDARD
TZOFFSETFROM:-0500
TZOFFSETTO:-0600
TZNAME:CST
DTSTART:19861026T070000
END:STANDARD
BEGIN:DAYLIGHT
TZOFFSETFROM:-0600
TZOFFSETTO:-0500
TZNAME:CDT
DTSTART:19870405T080000
END:DAYLIGHT
BEGIN:STANDARD
TZOFFSETFROM:-0500
TZOFFSETTO:-0600
TZNAME:CST
DTSTART:19871025T070000
END:STANDARD
BEGIN:DAYLIGHT
TZOFFSETFROM:-0600
TZOFFSETTO:-0500
TZNAME:CDT
DTSTART:19880403T080000
END:DAYLIGHT
BEGIN:STANDARD
TZOFFSETFROM:-0500
TZOFFSETTO:-0600
TZNAME:CST
DTSTART:19881030T070000
END:STANDARD
BEGIN:DAYLIGHT
TZOFFSETFROM:-0600
TZOFFSETTO:-0500
TZNAME:CDT
DTSTART:19890402T080000
END:DAYLIGHT
BEGIN:STANDARD
TZOFFSETFROM:-0500
TZOFFSETTO:-0600
TZNAME:CST
DTSTART:19891029T070000
END:STANDARD
BEGIN:DAYLIGHT
TZOFFSETFROM:-0600
TZOFFSETTO:-0500
TZNAME:CDT
DTSTART:19900401T080000
END:DAYLIGHT
BEGIN:STANDARD
TZOFFSETFROM:-0500
TZOFFSETTO:-0600
TZNAME:CST
DTSTART:19901028T070000
END:STANDARD
BEGIN:DAYLIGHT
TZOFFSETFROM:-0600
TZOFFSETTO:-0500
TZNAME:CDT
DTSTART:19910407T080000
END:DAYLIGHT
BEGIN:STANDARD
TZOFFSETFROM:-0500
TZOFFSETTO:-0600
TZNAME:CST
DTSTART:19911027T070000
END:STANDARD
BEGIN:DAYLIGHT
TZOFFSETFROM:-0600
TZOFFSETTO:-0500
TZNAME:CDT
DTSTART:19920405T080000
END:DAYLIGHT
BEGIN:STANDARD
TZOFFSETFROM:-0500
TZOFFSETTO:-0600
TZNAME:CST
DTSTART:19921025T070000
END:STANDARD
BEGIN:DAYLIGHT
TZOFFSETFROM:-0600
TZOFFSETTO:-0500
TZNAME:CDT
DTSTART:19930404T080000
END:DAYLIGHT
BEGIN:STANDARD
TZOFFSETFROM:-0500
TZOFFSETTO:-0600
TZNAME:CST
DTSTART:19931031T070000
END:STANDARD
BEGIN:DAYLIGHT
TZOFFSETFROM:-0600
TZOFFSETTO:-0500
TZNAME:CDT
DTSTART:19940403T080000
END:DAYLIGHT
BEGIN:STANDARD
TZOFFSETFROM:-0500
TZOFFSETTO:-0600
TZNAME:CST
DTSTART:19941030T070000
END:STANDARD
BEGIN:DAYLIGHT
TZOFFSETFROM:-0600
TZOFFSETTO:-0500
TZNAME:CDT
DTSTART:19950402T080000
END:DAYLIGHT
BEGIN:STANDARD
TZOFFSETFROM:-0500
TZOFFSETTO:-0600
TZNAME:CST
DTSTART:19951029T070000
END:STANDARD
BEGIN:DAYLIGHT
TZOFFSETFROM:-0600
TZOFFSETTO:-0500
TZNAME:CDT
DTSTART:19960407T080000
END:DAYLIGHT
BEGIN:STANDARD
TZOFFSETFROM:-0500
TZOFFSETTO:-0600
TZNAME:CST
DTSTART:19961027T070000
END:STANDARD
BEGIN:DAYLIGHT
TZOFFSETFROM:-0600
TZOFFSETTO:-0500
TZNAME:CDT
DTSTART:19970406T080000
END:DAYLIGHT
BEGIN:STANDARD
TZOFFSETFROM:-0500
TZOFFSETTO:-0600
TZNAME:CST
DTSTART:19971026T070000
END:STANDARD
BEGIN:DAYLIGHT
TZOFFSETFROM:-0600
TZOFFSETTO:-0500
TZNAME:CDT
DTSTART:19980405T080000
END:DAYLIGHT
BEGIN:STANDARD
TZOFFSETFROM:-0500
TZOFFSETTO:-0600
TZNAME:CST
DTSTART:19981025T070000
END:STANDARD
BEGIN:DAYLIGHT
TZOFFSETFROM:-0600
TZOFFSETTO:-0500
TZNAME:CDT
DTSTART:19990404T080000
END:DAYLIGHT
BEGIN:STANDARD
TZOFFSETFROM:-0500
TZOFFSETTO:-0600
TZNAME:CST
DTSTART:19991031T070000
END:STANDARD
BEGIN:DAYLIGHT
TZOFFSETFROM:-0600
TZOFFSETTO:-0500
TZNAME:CDT
DTSTART:20000402T080000
END:DAYLIGHT
BEGIN:STANDARD
TZOFFSETFROM:-0500
TZOFFSETTO:-0600
TZNAME:CST
DTSTART:20001029T070000
END:STANDARD
BEGIN:DAYLIGHT
TZOFFSETFROM:-0600
TZOFFSETTO:-0500
TZNAME:CDT
DTSTART:20010401T080000
END:DAYLIGHT
BEGIN:STANDARD
TZOFFSETFROM:-0500
TZOFFSETTO:-0600
TZNAME:CST
DTSTART:20011028T070000
END:STANDARD
BEGIN:DAYLIGHT
TZOFFSETFROM:-0600
TZOFFSETTO:-0500
TZNAME:CDT
DTSTART:20020407T080000
END:DAYLIGHT
BEGIN:STANDARD
TZOFFSETFROM:-0500
TZOFFSETTO:-0600
TZNAME:CST
DTSTART:20021027T070000
END:STANDARD
BEGIN:DAYLIGHT
TZOFFSETFROM:-0600
TZOFFSETTO:-0500
TZNAME:CDT
DTSTART:20030406T080000
END:DAYLIGHT
BEGIN:STANDARD
TZOFFSETFROM:-0500
TZOFFSETTO:-0600
TZNAME:CST
DTSTART:20031026T070000
END:STANDARD
BEGIN:DAYLIGHT
TZOFFSETFROM:-0600
TZOFFSETTO:-0500
TZNAME:CDT
DTSTART:20040404T080000
END:DAYLIGHT
BEGIN:STANDARD
TZOFFSETFROM:-0500
TZOFFSETTO:-0600
TZNAME:CST
DTSTART:20041031T070000
END:STANDARD
BEGIN:DAYLIGHT
TZOFFSETFROM:-0600
TZOFFSETTO:-0500
TZNAME:CDT
DTSTART:20050403T080000
END:DAYLIGHT
BEGIN:STANDARD
TZOFFSETFROM:-0500
TZOFFSETTO:-0600
TZNAME:CST
DTSTART:20051030T070000
END:STANDARD
BEGIN:DAYLIGHT
TZOFFSETFROM:-0600
TZOFFSETTO:-0500
TZNAME:CDT
DTSTART:20060402T080000
END:DAYLIGHT
BEGIN:STANDARD
TZOFFSETFROM:-0500
TZOFFSETTO:-0600
TZNAME:CST
DTSTART:20061029T070000
END:STANDARD
BEGIN:DAYLIGHT
TZOFFSETFROM:-0600
TZOFFSETTO:-0500
TZNAME:CDT
DTSTART:20070311T080000
END:DAYLIGHT
BEGIN:STANDARD
TZOFFSETFROM:-0500
TZOFFSETTO:-0600
TZNAME:CST
DTSTART:20071104T070000
END:STANDARD
BEGIN:DAYLIGHT
TZOFFSETFROM:-0600
TZOFFSETTO:-0500
TZNAME:CDT
DTSTART:20080309T080000
END:DAYLIGHT
BEGIN:STANDARD
TZOFFSETFROM:-0500
TZOFFSETTO:-0600
TZNAME:CST
DTSTART:20081102T070000
END:STANDARD
BEGIN:DAYLIGHT
TZOFFSETFROM:-0600
TZOFFSETTO:-0500
TZNAME:CDT
DTSTART:20090308T080000
END:DAYLIGHT
BEGIN:STANDARD
TZOFFSETFROM:-0500
TZOFFSETTO:-0600
TZNAME:CST
DTSTART:20091101T070000
END:STANDARD
BEGIN:DAYLIGHT
TZOFFSETFROM:-0600
TZOFFSETTO:-0500
TZNAME:CDT
DTSTART:20100314T080000
END:DAYLIGHT
BEGIN:STANDARD
TZOFFSETFROM:-0500
TZOFFSETTO:-0600
TZNAME:CST
DTSTART:20101107T070000
END:STANDARD
BEGIN:DAYLIGHT
TZOFFSETFROM:-0600
TZOFFSETTO:-0500
TZNAME:CDT
DTSTART:20110313T080000
END:DAYLIGHT
BEGIN:STANDARD
TZOFFSETFROM:-0500
TZOFFSETTO:-0600
TZNAME:CST
DTSTART:20111106T070000
END:STANDARD
BEGIN:DAYLIGHT
TZOFFSETFROM:-0600
TZOFFSETTO:-0500
TZNAME:CDT
DTSTART:20120311T080000
END:DAYLIGHT
BEGIN:STANDARD
TZOFFSETFROM:-0500
TZOFFSETTO:-0600
TZNAME:CST
DTSTART:20121104T070000
END:STANDARD
BEGIN:DAYLIGHT
TZOFFSETFROM:-0600
TZOFFSETTO:-0500
TZNAME:CDT
DTSTART:20130310T080000
END:DAYLIGHT
BEGIN:STANDARD
TZOFFSETFROM:-0500
TZOFFSETTO:-0600
TZNAME:CST
DTSTART:20131103T070000
END:STANDARD
BEGIN:DAYLIGHT
TZOFFSETFROM:-0600
TZOFFSETTO:-0500
TZNAME:CDT
DTSTART:20140309T080000
END:DAYLIGHT
BEGIN:STANDARD
TZOFFSETFROM:-0500
TZOFFSETTO:-0600
TZNAME:CST
DTSTART:20141102T070000
END:STANDARD
BEGIN:DAYLIGHT
TZOFFSETFROM:-0600
TZOFFSETTO:-0500
TZNAME:CDT
DTSTART:20150308T080000
END:DAYLIGHT
BEGIN:STANDARD
TZOFFSETFROM:-0500
TZOFFSETTO:-0600
TZNAME:CST
DTSTART:20151101T070000
END:STANDARD
BEGIN:DAYLIGHT
TZOFFSETFROM:-0600
TZOFFSETTO:-0500
TZNAME:CDT
DTSTART:20160313T080000
END:DAYLIGHT
BEGIN:STANDARD
TZOFFSETFROM:-0500
TZOFFSETTO:-0600
TZNAME:CST
DTSTART:20161106T070000
END:STANDARD
BEGIN:DAYLIGHT
TZOFFSETFROM:-0600
TZOFFSETTO:-0500
TZNAME:CDT
DTSTART:20170312T080000
END:DAYLIGHT
BEGIN:STANDARD
TZOFFSETFROM:-0500
TZOFFSETTO:-0600
TZNAME:CST
DTSTART:20171105T070000
END:STANDARD
BEGIN:DAYLIGHT
TZOFFSETFROM:-0600
TZOFFSETTO:-0500
TZNAME:CDT
DTSTART:20180311T080000
END:DAYLIGHT
BEGIN:STANDARD
TZOFFSETFROM:-0500
TZOFFSETTO:-0600
TZNAME:CST
DTSTART:20181104T070000
END:STANDARD
BEGIN:DAYLIGHT
TZOFFSETFROM:-0600
TZOFFSETTO:-0500
TZNAME:CDT
DTSTART:20190310T080000
END:DAYLIGHT
BEGIN:STANDARD
TZOFFSETFROM:-0500
TZOFFSETTO:-0600
TZNAME:CST
DTSTART:20191103T070000
END:STANDARD
BEGIN:DAYLIGHT
TZOFFSETFROM:-0600
TZOFFSETTO:-0500
TZNAME:CDT
DTSTART:20200308T080000
END:DAYLIGHT
BEGIN:STANDARD
TZOFFSETFROM:-0500
TZOFFSETTO:-0600
TZNAME:CST
DTSTART:20201101T070000
END:STANDARD
BEGIN:DAYLIGHT
TZOFFSETFROM:-0600
TZOFFSETTO:-0500
TZNAME:CDT
DTSTART:20210314T080000
END:DAYLIGHT
BEGIN:STANDARD
TZOFFSETFROM:-0500
TZOFFSETTO:-0600
TZNAME:CST
DTSTART:20211107T070000
END:STANDARD
BEGIN:DAYLIGHT
TZOFFSETFROM:-0600
TZOFFSETTO:-0500
TZNAME:CDT
DTSTART:20220313T080000
END:DAYLIGHT
BEGIN:STANDARD
TZOFFSETFROM:-0500
TZOFFSETTO:-0600
TZNAME:CST
DTSTART:20221106T070000
END:STANDARD
BEGIN:DAYLIGHT
TZOFFSETFROM:-0600
TZOFFSETTO:-0500
TZNAME:CDT
DTSTART:20230312T080000
END:DAYLIGHT
BEGIN:STANDARD
TZOFFSETFROM:-0500
TZOFFSETTO:-0600
TZNAME:CST
DTSTART:20231105T070000
END:STANDARD
END:VTIMEZONE
BEGIN:VEVENT
DTSTART;TZID=America/Chicago:20220720T180000
DTEND;TZID=America/Chicago:20220720T200000
DTSTAMP:20260419T214224
CREATED:20220605T020644Z
LAST-MODIFIED:20220719T210947Z
UID:6040-1658340000-1658347200@wethepeoplelaketravis.com
SUMMARY:LTISD Regular Monthly School Board Meeting
DESCRIPTION:7.20.22 Agenda \n 
URL:https://wethepeoplelaketravis.com/events/ltisd-regular-monthly-school-board-meeting/
LOCATION:LTISD Educational Development Center\, 607 RR 620 N.\, Austin\, TX\, 78734\, United States
CATEGORIES:LTISD,Meetings,School Board
ATTACH;FMTTYPE=image/jpeg:https://wethepeoplelaketravis.com/wp-content/uploads/2022/05/1_schoolboardmeeting-1.jpg
END:VEVENT
BEGIN:VEVENT
DTSTART;TZID=America/Chicago:20220615T180000
DTEND;TZID=America/Chicago:20220615T200000
DTSTAMP:20260419T214224
CREATED:20220520T192604Z
LAST-MODIFIED:20220613T161516Z
UID:5551-1655316000-1655323200@wethepeoplelaketravis.com
SUMMARY:LTISD Monthly School Board Meeting
DESCRIPTION:We urge you to attend. The Board agenda includes a “Safety and Security Report”\, “Mental Health Supports”\, “SHAC Committee Update”\, “Increased Property Values allowing for the buy down of debt” and much more. Please take this opportunity to speak to the board or email the Board at leadership@ltisdschools.org. All of these talking points pertain to the agenda items: \nPlease consider asking the Board for a lower tax rate as our values increase\, so do our taxes.\nPlease consider arguing that government schools should not be in the business of identifying students who might be at risk for violence. This is a slippery slope. Investigating students and responding to a student who threatens to shoot up a school are very different.\nPlease consider urging the District to stop teaching sex education to 11 year- olds. LTISD is one of the only school districts that starts in the 6th grade…both Eanes and Leander start in the 7th grade. \nAgenda for 6.15.22
URL:https://wethepeoplelaketravis.com/events/ltisd-monthly-school-board-meeting-3/
LOCATION:LTISD Educational Development Center\, 607 RR 620 N.\, Austin\, TX\, 78734\, United States
CATEGORIES:LTISD,Meetings,School Board
ATTACH;FMTTYPE=image/jpeg:https://wethepeoplelaketravis.com/wp-content/uploads/2022/05/1_schoolboardmeeting.jpg
END:VEVENT
BEGIN:VEVENT
DTSTART;TZID=America/Chicago:20220611T170000
DTEND;TZID=America/Chicago:20220611T190000
DTSTAMP:20260419T214224
CREATED:20220607T134223Z
LAST-MODIFIED:20220607T134256Z
UID:6107-1654966800-1654974000@wethepeoplelaketravis.com
SUMMARY:Summer Social- LT Families PAC
DESCRIPTION:Join us at 5 Soul Wine & Co on June 11th from 5 – 7pm to celebrate our victory and summertime! Bring the whole family and purchase your summer tank and LT Families PAC hat! We look forward to celebrating with you!
URL:https://wethepeoplelaketravis.com/events/summer-social-lt-families-pac/
LOCATION:5 Soul\, 4514 Bob Wire Rd\, Spicewood\, 78669\, United States
CATEGORIES:Events,LTISD
ATTACH;FMTTYPE=image/jpeg:https://wethepeoplelaketravis.com/wp-content/uploads/2022/06/283701369_148520381090245_6362998564050666347_n.jpg
END:VEVENT
BEGIN:VEVENT
DTSTART;TZID=America/Chicago:20220523T201500
DTEND;TZID=America/Chicago:20220523T210000
DTSTAMP:20260419T214224
CREATED:20220523T191214Z
LAST-MODIFIED:20220523T210137Z
UID:5624-1653336900-1653339600@wethepeoplelaketravis.com
SUMMARY:LTISD Issues- ZOOM meeting\, TONIGHT!!
DESCRIPTION:Please join our Zoom call at 8:15pm on Monday! If you haven’t joined before\, we’re looking forward to meeting you. If it’s been a while\, take a chance and show up. We’ll be discussing how to be more effective as a team\, so your feedback and input is important! \nSB Group Agenda\n– Goals for the summer and getting ready for the new school year\n– Working as a team and feedback for being more effective \nEmail info@wethepeoplelaketravis.com for login info for tonight’s meeting.
URL:https://wethepeoplelaketravis.com/events/ltisd-issues-zoom-meeting-tonight/
LOCATION:Texas
CATEGORIES:LTISD,School Board
ATTACH;FMTTYPE=image/jpeg:https://wethepeoplelaketravis.com/wp-content/uploads/2022/01/AdobeStock_296977766_Preview.jpeg
END:VEVENT
BEGIN:VEVENT
DTSTART;TZID=America/Chicago:20220518T180000
DTEND;TZID=America/Chicago:20220518T200000
DTSTAMP:20260419T214224
CREATED:20220509T214554Z
LAST-MODIFIED:20220517T144724Z
UID:5044-1652896800-1652904000@wethepeoplelaketravis.com
SUMMARY:LTISD Monthly School Board Meeting
DESCRIPTION:5.18.22 Agenda \nWe are encouraging all WTP members to attend this meeting.\nOur newly elected trustees will be sworn in and goodbyes and thank-yous will be given to Jessica Putonti\, as she will be stepping down.\nJessica will be remembered for her strong conservative voice on the board\, she was the first to openly push back on continuing to mask our children in schools. That night\, May of 2021\, the board voted 5-2 to make masks optional. When she spoke\, she spoke for all of us\, and more importantly the children in this school district!
URL:https://wethepeoplelaketravis.com/events/ltisd-monthly-school-board-meeting-2/
LOCATION:LTISD Educational Development Center\, 607 RR 620 N.\, Austin\, TX\, 78734\, United States
CATEGORIES:LTISD,Meetings,School Board
ATTACH;FMTTYPE=image/jpeg:https://wethepeoplelaketravis.com/wp-content/uploads/2022/05/1_schoolboardmeeting.jpg
END:VEVENT
BEGIN:VEVENT
DTSTART;TZID=America/Chicago:20220516T080000
DTEND;TZID=America/Chicago:20220520T190000
DTSTAMP:20260419T214224
CREATED:20220421T193742Z
LAST-MODIFIED:20220512T201344Z
UID:4334-1652688000-1653073200@wethepeoplelaketravis.com
SUMMARY:Run-Off Election Early Voting
DESCRIPTION:STATEWIDE RACES: \nAttorney General:  Paxton vs Bush\nLand Commissioner: Buckingham vs Westley\nRR Commissioner:  Christian vs Stogner \n  \nDistrict Race: \nHouse District 19 Ellen Troxclair Vs Justin Berry \n 
URL:https://wethepeoplelaketravis.com/events/run-off-election-early-voting/
LOCATION:Texas
CATEGORIES:City Council,Important Election Dates,LTISD,School Board,Voting
ATTACH;FMTTYPE=image/jpeg:https://wethepeoplelaketravis.com/wp-content/uploads/2022/01/cropped-AdobeStock_303932580_Preview-1.jpeg
END:VEVENT
BEGIN:VEVENT
DTSTART;TZID=America/Chicago:20220511T130000
DTEND;TZID=America/Chicago:20220511T142000
DTSTAMP:20260419T214224
CREATED:20220427T014629Z
LAST-MODIFIED:20220509T214710Z
UID:4522-1652274000-1652278800@wethepeoplelaketravis.com
SUMMARY:LTISD School Health Advisory Council (SHAC) Meeting
DESCRIPTION:Parents and community members are welcome to attend this meeting. Topics discussed SEL program (Second Step) Sex Ed curriculum (Lifeguard) We need more conservative parents getting involved with the decisions this group is making for our children in this School District. Check out Website below for more information on this committee. \nSchool Health Advisory Council (SHAC) is a group appointed by the school district to serve at the district level. Members of the SHAC come from different areas of the community and from within the school district. The majority of members must be parents who are not employed by the district. SHACs assist the districts in ensuring that local community values are reflected in health education instruction. Additionally\, SHACs play an important role in strengthening the connection between health and learning. They can help parents and community stakeholders reinforce the knowledge and skills children need to stay healthy for a lifetime.\nLake Travis ISD’s SHAC consists of parent representatives from each school as well as at large\, along with High School students\, community members\, and school district employees. We meet 4-6 times per year and present our recommendations annually to the school board.
URL:https://wethepeoplelaketravis.com/events/ltisd-school-health-advisory-council-shac-3/
LOCATION:LTISD Educational Development Center\, 607 RR 620 N.\, Austin\, TX\, 78734\, United States
CATEGORIES:LTISD,Meetings
ATTACH;FMTTYPE=image/jpeg:https://wethepeoplelaketravis.com/wp-content/uploads/2022/04/two-sexes.jpg
END:VEVENT
BEGIN:VEVENT
DTSTART;TZID=America/Chicago:20220426T123000
DTEND;TZID=America/Chicago:20220426T143000
DTSTAMP:20260419T214224
CREATED:20220408T021215Z
LAST-MODIFIED:20220425T203743Z
UID:3722-1650976200-1650983400@wethepeoplelaketravis.com
SUMMARY:LTISD School Health Advisory Council (SHAC)
DESCRIPTION:Parents and community members are welcome to attend this meeting. Topics discussed SEL program (Second Step) Sex Ed curriculum (Lifeguard) We need more conservative parents getting involved with the decisions this group is making for our children in this School District. Check out Website below for more information on this committee. \nSchool Health Advisory Council (SHAC) is a group appointed by the school district to serve at the district level. Members of the SHAC come from different areas of the community and from within the school district. The majority of members must be parents who are not employed by the district. SHACs assist the districts in ensuring that local community values are reflected in health education instruction. Additionally\, SHACs play an important role in strengthening the connection between health and learning. They can help parents and community stakeholders reinforce the knowledge and skills children need to stay healthy for a lifetime.\nLake Travis ISD’s SHAC consists of parent representatives from each school as well as at large\, along with High School students\, community members\, and school district employees. We meet 4-6 times per year and present our recommendations annually to the school board.
URL:https://wethepeoplelaketravis.com/events/ltisd-school-health-advisory-council-shac-2/
LOCATION:LTISD Educational Development Center\, 607 RR 620 N.\, Austin\, TX\, 78734\, United States
CATEGORIES:Events,LTISD,Meetings
ATTACH;FMTTYPE=image/jpeg:https://wethepeoplelaketravis.com/wp-content/uploads/2022/04/two-sexes.jpg
END:VEVENT
BEGIN:VEVENT
DTSTART;TZID=America/Chicago:20220425T183000
DTEND;TZID=America/Chicago:20220425T203000
DTSTAMP:20260419T214224
CREATED:20220421T030235Z
LAST-MODIFIED:20220421T195200Z
UID:4216-1650911400-1650918600@wethepeoplelaketravis.com
SUMMARY:We The People Monthly Meeting- Amazing Guest Speaker
DESCRIPTION:Come with lots of questions! Mr Stewart Baggish will help us navigate the law and our rights as parents in our School District.
URL:https://wethepeoplelaketravis.com/events/we-the-people-monthly-meeting-guest-speaker-stewart-baggish/
LOCATION:Texas
CATEGORIES:LTISD,Meetings,School Board
ATTACH;FMTTYPE=image/png:https://wethepeoplelaketravis.com/wp-content/uploads/2022/04/unnamed.png
END:VEVENT
BEGIN:VEVENT
DTSTART;TZID=America/Chicago:20220424T140000
DTEND;TZID=America/Chicago:20220424T160000
DTSTAMP:20260419T214224
CREATED:20220421T024213Z
LAST-MODIFIED:20220424T034544Z
UID:4214-1650808800-1650816000@wethepeoplelaketravis.com
SUMMARY:Block Walking for our School Board Candidates
DESCRIPTION:Join us at Briarcliff community center at 2pm tomorrow to blockwalk. It’s a big Republican neighborhood and not easy to walk. We need help. Monday is the first day of early voting. Let’s finish strong!!\nOr… block walk on your own schedule! We have yard signs\, push cards and voter lists.  Please reach out and we will deliver the tools you need to campaign around your house for the school board race. It will take all of us to keep Austin out of Lake Travis. Email us at Info@wethepeoplelaketravis.com
URL:https://wethepeoplelaketravis.com/events/block-walking-for-our-school-board-candidates-2/
LOCATION:Texas
CATEGORIES:LTISD,School Board,Voting
ATTACH;FMTTYPE=image/png:https://wethepeoplelaketravis.com/wp-content/uploads/2022/04/threeamigos.png
END:VEVENT
BEGIN:VEVENT
DTSTART;TZID=America/Chicago:20220423T100000
DTEND;TZID=America/Chicago:20220423T120000
DTSTAMP:20260419T214224
CREATED:20220421T023352Z
LAST-MODIFIED:20220421T185717Z
UID:4209-1650708000-1650715200@wethepeoplelaketravis.com
SUMMARY:Block Walking for our School Board Candidates
DESCRIPTION:Join us for block walking this weekend! Email for details on meeting location at info@ourtakeback.com\nOr… block walk on your own schedule! We have yard signs\, push cards and voter lists.  Please reach out and we will deliver the tools you need to campaign around your house for the school board race. It will take all of us to keep Austin out of Lake Travis. info@ourtakeback.com
URL:https://wethepeoplelaketravis.com/events/block-walking-for-our-school-board-candidates/
LOCATION:Texas
CATEGORIES:LTISD,School Board,Voting
ATTACH;FMTTYPE=image/png:https://wethepeoplelaketravis.com/wp-content/uploads/2022/04/threeamigos.png
END:VEVENT
BEGIN:VEVENT
DTSTART;TZID=America/Chicago:20260419T214224
DTEND;TZID=America/Chicago:20260419T214224
DTSTAMP:20260419T214224
CREATED:20220418T200239Z
LAST-MODIFIED:20220418T200421Z
UID:4109-0-0@wethepeoplelaketravis.com
SUMMARY:We the People Meeting 6:30pm hosting Stewart Baggish
DESCRIPTION:
URL:https://wethepeoplelaketravis.com/events/we-the-people-meeting-630pm-hosting-stewart-baggish/
LOCATION:Texas
CATEGORIES:LTISD,Meetings,School Board
END:VEVENT
END:VCALENDAR