BEGIN:VCALENDAR
VERSION:2.0
PRODID:-//We the People | Lake Travis - ECPv6.15.20//NONSGML v1.0//EN
CALSCALE:GREGORIAN
METHOD:PUBLISH
X-WR-CALNAME:We the People | Lake Travis
X-ORIGINAL-URL:https://wethepeoplelaketravis.com
X-WR-CALDESC:Events for We the People | Lake Travis
REFRESH-INTERVAL;VALUE=DURATION:PT1H
X-Robots-Tag:noindex
X-PUBLISHED-TTL:PT1H
BEGIN:VTIMEZONE
TZID:America/Chicago
BEGIN:DAYLIGHT
TZOFFSETFROM:-0600
TZOFFSETTO:-0500
TZNAME:CDT
DTSTART:20210314T080000
END:DAYLIGHT
BEGIN:STANDARD
TZOFFSETFROM:-0500
TZOFFSETTO:-0600
TZNAME:CST
DTSTART:20211107T070000
END:STANDARD
BEGIN:DAYLIGHT
TZOFFSETFROM:-0600
TZOFFSETTO:-0500
TZNAME:CDT
DTSTART:20220313T080000
END:DAYLIGHT
BEGIN:STANDARD
TZOFFSETFROM:-0500
TZOFFSETTO:-0600
TZNAME:CST
DTSTART:20221106T070000
END:STANDARD
BEGIN:DAYLIGHT
TZOFFSETFROM:-0600
TZOFFSETTO:-0500
TZNAME:CDT
DTSTART:20230312T080000
END:DAYLIGHT
BEGIN:STANDARD
TZOFFSETFROM:-0500
TZOFFSETTO:-0600
TZNAME:CST
DTSTART:20231105T070000
END:STANDARD
END:VTIMEZONE
BEGIN:VEVENT
DTSTART;TZID=America/Chicago:20220516T183000
DTEND;TZID=America/Chicago:20220516T220000
DTSTAMP:20260421T181828
CREATED:20220510T153459Z
LAST-MODIFIED:20220510T153459Z
UID:5082-1652725800-1652738400@wethepeoplelaketravis.com
SUMMARY:City of Lakeway monthly meeting
DESCRIPTION:Agenda will be posted as soon as available
URL:https://wethepeoplelaketravis.com/events/city-of-lakeway-monthly-meeting/
LOCATION:Lakeway City Hall\, 1102 Lohmans Crossing Road\, Lakeway\, TX\, 78734\, United States
CATEGORIES:City Council,Meetings
ATTACH;FMTTYPE=image/jpeg:https://wethepeoplelaketravis.com/wp-content/uploads/2022/05/New-Banner.jpg
END:VEVENT
BEGIN:VEVENT
DTSTART;TZID=America/Chicago:20220507T070000
DTEND;TZID=America/Chicago:20220507T190000
DTSTAMP:20260421T181828
CREATED:20220405T004528Z
LAST-MODIFIED:20220505T032227Z
UID:3514-1651906800-1651950000@wethepeoplelaketravis.com
SUMMARY:Local Election Day (School Board and City Council)
DESCRIPTION:WTP recommendations for school board candidates at LTISD
URL:https://wethepeoplelaketravis.com/events/local-municipal-election-day/
CATEGORIES:City Council,School Board,Voting
ATTACH;FMTTYPE=image/jpeg:https://wethepeoplelaketravis.com/wp-content/uploads/2022/01/AdobeStock_259491434_Preview.jpeg
END:VEVENT
BEGIN:VEVENT
DTSTART;TZID=America/Chicago:20220421T173000
DTEND;TZID=America/Chicago:20220421T183000
DTSTAMP:20260421T181828
CREATED:20220421T191722Z
LAST-MODIFIED:20220421T191722Z
UID:4323-1650562200-1650565800@wethepeoplelaketravis.com
SUMMARY:City of Lakeway Townhall on transportation
DESCRIPTION:City Manager Julie Oakley will give an update on the latest upcoming and proposed transportation projects throughout Lakeway\, including potential roadway projects\, repair work and sidewalk improvement projects. Have a question you would like addressed? Email us at info@lakeway-tx.gov or bring your questions in-person to be answered at this special meeting.
URL:https://wethepeoplelaketravis.com/events/city-of-lakeway-townhall-on-transportation/
LOCATION:Lakeway Activity Center\, 105 Cross Creek Lakeway\, TX 78734
CATEGORIES:City Council,City Council,Events,Meetings
ATTACH;FMTTYPE=image/jpeg:https://wethepeoplelaketravis.com/wp-content/uploads/2022/02/cropped-AdobeStock_302174916-scaled-1.jpeg
END:VEVENT
BEGIN:VEVENT
DTSTART;TZID=America/Chicago:20220317T090000
DTEND;TZID=America/Chicago:20220317T090000
DTSTAMP:20260421T181828
CREATED:20220308T003002Z
LAST-MODIFIED:20220315T204839Z
UID:942-1647507600-1647507600@wethepeoplelaketravis.com
SUMMARY:City of Lakeway\,  Board of Ethics committee meeting Regarding Laurie Higgenbothem
DESCRIPTION:Complaint filed against Laurie Higgenbothem and her letters to the school board and administration using City Council Letterhead.\nNOTICE IS HEREBY GIVEN THAT THE\nBOARD OF ETHICS\nOF THE CITY OF LAKEWAY\, TRAVIS COUNTY\, TEXAS WILL MEET ON\nThursday\, March 17\, 2022 at 9:00 A.M.\nLakeway City Hall\, 1102 LOHMANS CROSSING\, LAKEWAY\, TEXAS.\nAGENDA\n1. Call to order and establish quorum.\n2. Citizen participation for items not on the agenda.\n3. Consideration and possible action on subcommittee report for complaint filed by Tony\nO’Berle on February 11\, 2022.\n• Citizen participation.\n• Board discussion/action.\n4. Review Code of Ethics\, Section 2.04.031 for recommendation to city council.\n• Report by City Attorney Cobby Caputo.\n• Citizen participation.\n• Board discussion/action.\n5. Adjourn.\nThe Board of Ethics may adjourn into Executive Session at any time during the course of this\nmeeting to discuss any matters listed on the agenda\, as authorized by the Texas Government\nCode including\, but not limited to\, Sections: 551.071 (Consultation with Attorney)\, 551.072\n(Deliberations about Real Property)\, 551.073 (Deliberations about Gifts and Donations)\, 551.074\n(Personnel Matters)\, 551.076 (Deliberations about Security Devices)\, 551.087 (Economic\nDevelopment)\, 418.183 (Deliberations about Homeland Security Issues) and as authorized by the\nTexas Tax Code including\, but not limited to\, Section 321.3022 (Sales Tax Information).
URL:https://wethepeoplelaketravis.com/events/lakeway-city-council-meeting/
LOCATION:Lakeway City Hall\, 1102 Lohmans Crossing Road\, Lakeway\, TX\, 78734\, United States
CATEGORIES:City Council,Events
ATTACH;FMTTYPE=image/jpeg:https://wethepeoplelaketravis.com/wp-content/uploads/2022/01/cropped-AdobeStock_259491434_Preview.jpeg
END:VEVENT
BEGIN:VEVENT
DTSTART;TZID=America/Chicago:20220308T180000
DTEND;TZID=America/Chicago:20220308T180000
DTSTAMP:20260421T181828
CREATED:20220308T042352Z
LAST-MODIFIED:20220308T153030Z
UID:2217-1646762400-1646762400@wethepeoplelaketravis.com
SUMMARY:City of Bee Cave Council Meeting
DESCRIPTION:
URL:https://wethepeoplelaketravis.com/events/city-of-bee-cave-council-meeting/
LOCATION:Bee Cave City Hall\, 4000 Galleria Parkway\, Beecave\, Texas\, 78738
CATEGORIES:City Council,City Council,Events
END:VEVENT
END:VCALENDAR