BEGIN:VCALENDAR
VERSION:2.0
PRODID:-//We the People | Lake Travis - ECPv6.15.20//NONSGML v1.0//EN
CALSCALE:GREGORIAN
METHOD:PUBLISH
X-ORIGINAL-URL:https://wethepeoplelaketravis.com
X-WR-CALDESC:Events for We the People | Lake Travis
REFRESH-INTERVAL;VALUE=DURATION:PT1H
X-Robots-Tag:noindex
X-PUBLISHED-TTL:PT1H
BEGIN:VTIMEZONE
TZID:America/Chicago
BEGIN:DAYLIGHT
TZOFFSETFROM:-0600
TZOFFSETTO:-0500
TZNAME:CDT
DTSTART:20210314T080000
END:DAYLIGHT
BEGIN:STANDARD
TZOFFSETFROM:-0500
TZOFFSETTO:-0600
TZNAME:CST
DTSTART:20211107T070000
END:STANDARD
BEGIN:DAYLIGHT
TZOFFSETFROM:-0600
TZOFFSETTO:-0500
TZNAME:CDT
DTSTART:20220313T080000
END:DAYLIGHT
BEGIN:STANDARD
TZOFFSETFROM:-0500
TZOFFSETTO:-0600
TZNAME:CST
DTSTART:20221106T070000
END:STANDARD
BEGIN:DAYLIGHT
TZOFFSETFROM:-0600
TZOFFSETTO:-0500
TZNAME:CDT
DTSTART:20230312T080000
END:DAYLIGHT
BEGIN:STANDARD
TZOFFSETFROM:-0500
TZOFFSETTO:-0600
TZNAME:CST
DTSTART:20231105T070000
END:STANDARD
END:VTIMEZONE
BEGIN:VEVENT
DTSTART;TZID=America/Chicago:20220919T183000
DTEND;TZID=America/Chicago:20220919T223000
DTSTAMP:20260421T135032
CREATED:20220818T182522Z
LAST-MODIFIED:20220818T182522Z
UID:17460-1663612200-1663626600@wethepeoplelaketravis.com
SUMMARY:Lakeway City Council Regular Meeting
DESCRIPTION:Adopt Budget & Tax Rate
URL:https://wethepeoplelaketravis.com/events/lakeway-city-council-regular-meeting-2/
LOCATION:Lakeway City Hall\, 1102 Lohmans Crossing Road\, Lakeway\, TX\, 78734\, United States
CATEGORIES:City Council,City Council,Meetings
ATTACH;FMTTYPE=image/jpeg:https://wethepeoplelaketravis.com/wp-content/uploads/2022/05/city-of-lakeway-logo-1.jpg
END:VEVENT
BEGIN:VEVENT
DTSTART;TZID=America/Chicago:20220912T183000
DTEND;TZID=America/Chicago:20220912T203000
DTSTAMP:20260421T135032
CREATED:20220818T182140Z
LAST-MODIFIED:20220818T182628Z
UID:17458-1663007400-1663014600@wethepeoplelaketravis.com
SUMMARY:Lakeway City Council Special Meeting
DESCRIPTION:Work Session & Public Hearing on Proposed Budget and Tax Rate
URL:https://wethepeoplelaketravis.com/events/lakeway-city-council-special-meeting-2/
LOCATION:Lakeway City Hall\, 1102 Lohmans Crossing Road\, Lakeway\, TX\, 78734\, United States
CATEGORIES:City Council,City Council,Meetings
ATTACH;FMTTYPE=image/jpeg:https://wethepeoplelaketravis.com/wp-content/uploads/2022/05/city-of-lakeway-logo-1.jpg
END:VEVENT
BEGIN:VEVENT
DTSTART;TZID=America/Chicago:20220815T183000
DTEND;TZID=America/Chicago:20220815T203000
DTSTAMP:20260421T135032
CREATED:20220726T213147Z
LAST-MODIFIED:20220818T171642Z
UID:13000-1660588200-1660595400@wethepeoplelaketravis.com
SUMMARY:City of Lakeway City Council Regular Meeting
DESCRIPTION:Stratus is the developer of the land behind the Lakeway HEB. It was originally zoned for a low density residential tract. Stratus is asking for an amendment to include: 261 apartment units on the south side of Main Street and 28 townhouses. \nThe meeting starts at 6:30pm. This agenda item is #17 https://lakeway-tx.civicweb.net/Portal/MeetingInformation.aspx?Org=Cal&Id=147 . If you would like to speak on this item\, I recommend being there by 7:30pm. You can sign up when you get to the meeting\, but the Mayor typically takes all public comment\, even if you are not signed up to speak. You are given 3 minutes to address Council. They will likely vote on this proposal\, so if you have something to say\, I suggest showing up and speaking. \nIf you cannot make the meeting\, but you would like to submit a comment\, you can email the Council at the email addresses found here https://www.lakeway-tx.gov/100/Mayor-City-Council
URL:https://wethepeoplelaketravis.com/events/city-of-lakeway-city-council-regular-meeting/
LOCATION:Lakeway City Hall\, 1102 Lohmans Crossing Road\, Lakeway\, TX\, 78734\, United States
CATEGORIES:City Council,City Council,Meetings
ATTACH;FMTTYPE=image/jpeg:https://wethepeoplelaketravis.com/wp-content/uploads/2022/05/city-of-lakeway-logo-1.jpg
END:VEVENT
BEGIN:VEVENT
DTSTART;TZID=America/Chicago:20220801T183000
DTEND;TZID=America/Chicago:20220801T200000
DTSTAMP:20260421T135032
CREATED:20220726T210939Z
LAST-MODIFIED:20220726T210939Z
UID:12984-1659378600-1659384000@wethepeoplelaketravis.com
SUMMARY:City of Lakeway City Council Special Meeting
DESCRIPTION:agenda posted when available
URL:https://wethepeoplelaketravis.com/events/city-of-lakeway-city-council-special-meeting/
LOCATION:Lakeway City Hall\, 1102 Lohmans Crossing Road\, Lakeway\, TX\, 78734\, United States
CATEGORIES:City Council,City Council,Meetings
ATTACH;FMTTYPE=image/jpeg:https://wethepeoplelaketravis.com/wp-content/uploads/2022/05/city-of-lakeway-logo-1.jpg
END:VEVENT
BEGIN:VEVENT
DTSTART;TZID=America/Chicago:20220718T183000
DTEND;TZID=America/Chicago:20220718T203000
DTSTAMP:20260421T135032
CREATED:20220605T011054Z
LAST-MODIFIED:20220712T215629Z
UID:6021-1658169000-1658176200@wethepeoplelaketravis.com
SUMMARY:Lakeway City Council Regular Meeting
DESCRIPTION:Agenda will be posted when available
URL:https://wethepeoplelaketravis.com/events/lakeway-city-council-regular-meeting/
LOCATION:TX
CATEGORIES:City Council,City Council,Meetings
ATTACH;FMTTYPE=image/jpeg:https://wethepeoplelaketravis.com/wp-content/uploads/2022/05/city-of-lakeway-logo-1.jpg
END:VEVENT
BEGIN:VEVENT
DTSTART;TZID=America/Chicago:20220712T180000
DTEND;TZID=America/Chicago:20220712T200000
DTSTAMP:20260421T135032
CREATED:20220710T183815Z
LAST-MODIFIED:20220710T184402Z
UID:9871-1657648800-1657656000@wethepeoplelaketravis.com
SUMMARY:Bee Cave City Council Meeting
DESCRIPTION:Are you opposed to additional apartments at the NE corner of 620/ Bee Cave Parkway? It is encouraged that citizens attend a public meeting to oppose the Pearl Project on Tuesday\, 7/12/22 at 6:00 p.m. at Bee Cave City Hall.\nBelow are the citizen concerns:\n• Added traffic- Bee Cave Parkway will be the only access road\, which is already failing\, especially at prime drive times. This would also affect safety with student bus transportation and emergency vehicles.\n​\n• Bee Cave Comprehensive Plan- The current ratio of single family to multi-family is above what is allowed in the Bee Cave Comprehensive Plan. More apartments would make it even more out of balance.\n• Planned Development Agreement/Exceptions: The developers are asking for many exceptions from our ordinances (which is done with a Planned Development Agreement PDA.) Their asks are very much in excess of what ordinances allow. These include:\n1.) The number of units per acre almost double what would normally be allowed\n2.) No traffic impact study (TIA) has been formally done\, which is an ordinance requirement. Instead\, they are using estimates\n• Schools- This will create an influx number of students in our already crowded schools.\n• Water Conservation- This type of development will add to our already problematic water situation.\n• Planning and Zoning Committee has already turned this proposal down. We need our elected city officials to turn down this proposal\, which is in the best interest of the Bee Cave Taxpayers based on the reasons provided above.\nThe developer of the Pearl Project is trying to appeal this project\, so it is important for citizens to participate by SHOWING UP AND LET YOUR VOICES BE HEARD on Tuesday\, 7/12/22 at 6:00 p.m. at Bee Cave City Hall.
URL:https://wethepeoplelaketravis.com/events/bee-cave-city-council-meeting/
LOCATION:Bee Cave City Hall\, 4000 Galleria Parkway\, Beecave\, Texas\, 78738
CATEGORIES:City Council,City Council,Meetings
ATTACH;FMTTYPE=image/jpeg:https://wethepeoplelaketravis.com/wp-content/uploads/2022/07/image.jpg
END:VEVENT
BEGIN:VEVENT
DTSTART;TZID=America/Chicago:20220711T180000
DTEND;TZID=America/Chicago:20220711T200000
DTSTAMP:20260421T135032
CREATED:20220711T204813Z
LAST-MODIFIED:20220711T204813Z
UID:10059-1657562400-1657569600@wethepeoplelaketravis.com
SUMMARY:City of Lakeway "Special" Council Meeting
DESCRIPTION:  \n\n\n\nAGENDA \nCity Council Special Meeting \nMonday\, July 11\, 2022 \nCity Hall \n1102 Lohmans Crossing Road \nLakeway\, TX 78734 \n6:30 PM \n  \nIndividuals who do not plan to attend the meeting\, but wish to submit comments during the public hearings and citizen participation at the meeting may submit a comment through our online form: /Portal/CitizenEngagement.aspx \nComments received by the 3:00 p.m. deadline on Friday\, July 8\, 2022 will be provided to the City Council.\n\n\n\n  \n\n\n\nPage\n\n\n\n \n\n\n\n1\nESTABLISH QUORUM AND CALL TO ORDER.\n\n\n\n \n\n\n\n2\nPLEDGE OF ALLEGIANCE.\n\n\n\n \n\n\n\n3\nUPDATE FROM AVIATION ZONING DISTRICT STUDY COMMITTEE. \n  \n        Presentation by Chair Ron Massa. \n        Citizen participation. \n        Council discussion/action.\n\n\n\n \n\n\n\n4\nPARKS AND RECREATION STRATEGIC PLAN. \n  \n        Staff report by Director of Parks and Recreation Andra Bennett. \n        Citizen participation. \n        Council discussion/action.\n\n\n\n \n\n\n\n\n\n\nStaff Report \nTown Hall Comments \nPresentation\n4 – 34\n\n\n\n \n\n\n\n5\nUPDATE ON TRANSPORTATION PROJECTS. \n  \n        Staff report by City Manager Julie Oakley. \n        Citizen participation. \n        Council discussion/action.\n\n\n\n \n\n\n\n\n\n\nStaff Report \nTown Hall Comments \nPresentation\n35 – 54\n\n\n\n \n\n\n\n6\nPRESENTATION FROM BOND ATTORNEY AND FINANCIAL ADVISOR ON POTENTIAL BOND PROJECTS. \n  \n        Staff report by City Manager Julie Oakley. \n        Citizen participation. \n        Council discussion/action.\n\n\n\n \n\n\n\n7\nRECEIVE AND DISCUSS A PRESENTATION REGARDING POTENTIAL PROJECTS TO BE FUNDED BY THE AMERICAN RESCUE PLAN ACT OF 2021 (ARPA). \n  \n        Staff report by Assistant City Manager Joseph Molis. \n        Citizen participation. \n        Council discussion/action.\n\n\n\n \n\n\n\n\n\n\nStaff Report \nARPA Funds Use Chart\n55 – 58\n\n\n\n \n\n\n\n8\nFY 2023 BUDGET WORKSESSION. \n  \n        Presentation by City Manager Julie Oakley. \n        Citizen participation. \n        Council discussion/action.\n\n\n\n \n\n\n\n9\nEXECUTIVE SESSION.  ENTER INTO EXECUTIVE SESSION TO DELIBERATE REGARDING PENDING LITIGATION\, AS AUTHORIZED BY TEXAS GOVERNMENT CODE SECTION 551.071 (CONSULTATION WITH ATTORNEY).  NO ACTION WILL BE TAKEN IN EXECUTIVE SESSION; ACTION\, IF ANY\, WILL BE TAKEN IN OPEN SESSION. \n  \n        Christopher W. Levy v. City of Lakeway\, et al.\, Cause No. D-1-GN-22-002721\, in the 261st District Court of Travis County\, TX.\n\n\n\n \n\n\n\n10\nEXECUTIVE SESSION.  ENTER INTO EXECUTIVE SESSION TO DELIBERATE LEGAL ISSUES RELATED TO THE CHERRY KNOLL SETTLEMENT AND DEVELOPMENT AGREEMENT AND THE CHERRY KNOLL PUD\, AS PERMITTED BY TEXAS GOVERNMENT CODE SECTION 551.071.  NO ACTION WILL BE TAKEN IN EXECUTIVE SESSION; ACTION\, IF ANY\, WILL BE TAKEN IN OPEN SESSION.\n\n\n\n \n\n\n\n11\nADJOURN.\n\n\n\n  \n  \nSigned this 5th day of July\, 2022. \n  \n________________________________ \nThomas Kilgore\, Mayor \n  \n  \nAll items may be subject to action by City Council pursuant to Ordinance No. 2001-10-29-1\, Article VI. The City Council may adjourn into Executive Session at any time during the course of this meeting to discuss any matters listed on the agenda\, as authorized by the Texas Government Code including\, but not limited to\, Sections: 551.071 (Consultation with Attorney)\, 551.072 (Deliberations about Real Property)\, 551.073 (Deliberations about Gifts and Donations)\, 551.074 (Personnel Matters)\, 551.076 (Deliberations about Security Devices)\, 551.087 (Economic Development)\, 418.183 (Deliberations about Homeland Security Issues) and as authorized by the Texas Tax Code including\, but not limited to\, Section 321.3022 (Sales Tax Information). \n  \nPursuant to Texas Government Code Sec. 551.127\, on a regular\, non-emergency basis\, members may attend and participate in the meeting remotely by video conference. Should that occur\, a quorum of the members will be physically present at the location noted above on this agenda. \n  \nCertification: I certify that the above notice of meeting was posted on the City of Lakeway Official Community Bulletin Board on the 5th day of July\, 2022 \nat 5:30 p.m.  Council approved agendas and action minutes are available on line at http://www.lakeway-tx.gov/. The City of Lakeway Council meetings are available to all persons regardless of ability.  If you require special assistance\, please contact Jo Ann Touchstone\, City Secretary\, at 512-314-7506 at least 48 hours in advance of the meeting. \n  \n_________________________________ \nJo Ann Touchstone\, City Secretary
URL:https://wethepeoplelaketravis.com/events/city-of-lakeway-special-council-meeting/
LOCATION:Lakeway City Hall\, 1102 Lohmans Crossing Road\, Lakeway\, TX\, 78734\, United States
CATEGORIES:City Council,City Council,Meetings
ATTACH;FMTTYPE=image/jpeg:https://wethepeoplelaketravis.com/wp-content/uploads/2022/05/city-of-lakeway-logo-1.jpg
END:VEVENT
BEGIN:VEVENT
DTSTART;TZID=America/Chicago:20220704T083000
DTEND;TZID=America/Chicago:20220704T103000
DTSTAMP:20260421T135032
CREATED:20220428T165548Z
LAST-MODIFIED:20220701T180131Z
UID:4591-1656923400-1656930600@wethepeoplelaketravis.com
SUMMARY:City of Lakeway 4th of JULY PARADE!!
DESCRIPTION:PLEASE JOIN US! \nWe the People-Lake Travis have put together an amazing float and we will be in the PARADE!!! We are looking forward to celebrating the 4th of July with our community!!! Join us as we hand out American flags and pocket Constitutions! ALL PATRIOTS ARE WELCOME! Bring the kids\, bring your dogs and walk with us! \nThe theme this year is “She’s a Grand Old Flag” \nMeet us at the Live Oak Golf Course staging area… All entrants must be checked in by 7:30am and in their assigned location by 7:45am. Walkers please show up before 830AM.  \n8:30 AM Parade Begins \nParade Route: Lakeway Drive from the Live\nOak Driving Range to the Lakeway Activity\nCenter. Distance: 1.0 mile (approximately) \n9:00 AM Military Flyover \n9:30 AM Hotdog Reception at Lakeway Activity Center – includes donuts\, hotdogs generously provided and served by HEB Lakeway\, yard games\, live Mariachi Music by Mariachi Amor\, Parade Awards\, and an opportunity to suggest next year’s Parade theme! \n \nReach out to info@wethepeoplelaketravis.com
URL:https://wethepeoplelaketravis.com/events/city-of-lakeway-july-4th-parade/
LOCATION:Lakeway Activity Center\, 105 Cross Creek Lakeway\, TX 78734
CATEGORIES:City Council,Political Rallys
ATTACH;FMTTYPE=image/jpeg:https://wethepeoplelaketravis.com/wp-content/uploads/2022/04/image.jpg
END:VEVENT
BEGIN:VEVENT
DTSTART;TZID=America/Chicago:20220630T173000
DTEND;TZID=America/Chicago:20220630T183000
DTSTAMP:20260421T135032
CREATED:20220627T024022Z
LAST-MODIFIED:20220627T024022Z
UID:7280-1656610200-1656613800@wethepeoplelaketravis.com
SUMMARY:City of Lakeway Town Hall
DESCRIPTION:City Manager Julie Oakley will give an update of the latest on our city parks\, including upcoming projects and events. Have a question you would like addressed? Email us at info@lakeway-tx.gov or bring your questions in-person to be answered at this special meeting.
URL:https://wethepeoplelaketravis.com/events/city-of-lakeway-town-hall/
LOCATION:Lakeway City Hall\, 1102 Lohmans Crossing Road\, Lakeway\, TX\, 78734\, United States
CATEGORIES:City Council,City Council,Events,Meetings
ATTACH;FMTTYPE=image/jpeg:https://wethepeoplelaketravis.com/wp-content/uploads/2022/06/signal-2022-06-26-213713_002.jpeg
END:VEVENT
BEGIN:VEVENT
DTSTART;TZID=America/Chicago:20220621T183000
DTEND;TZID=America/Chicago:20220621T220000
DTSTAMP:20260421T135032
CREATED:20220520T193406Z
LAST-MODIFIED:20220620T165440Z
UID:5553-1655836200-1655848800@wethepeoplelaketravis.com
SUMMARY:City of Lakeway monthly meeting
DESCRIPTION:2022-06-21 Regular Agenda
URL:https://wethepeoplelaketravis.com/events/city-of-lakeway-monthly-meeting-2/
LOCATION:Lakeway City Hall\, 1102 Lohmans Crossing Road\, Lakeway\, TX\, 78734\, United States
CATEGORIES:City Council,City Council,Meetings
ATTACH;FMTTYPE=image/jpeg:https://wethepeoplelaketravis.com/wp-content/uploads/2022/05/city-of-lakeway-logo-1.jpg
END:VEVENT
BEGIN:VEVENT
DTSTART;TZID=America/Chicago:20220606T183000
DTEND;TZID=America/Chicago:20220606T203000
DTSTAMP:20260421T135032
CREATED:20220605T211253Z
LAST-MODIFIED:20220605T212213Z
UID:6063-1654540200-1654547400@wethepeoplelaketravis.com
SUMMARY:Lakeway City Council "Special" Meeting
DESCRIPTION:
URL:https://wethepeoplelaketravis.com/events/lakeway-city-council-special-meeting/
LOCATION:Lakeway City Hall\, 1102 Lohmans Crossing Road\, Lakeway\, TX\, 78734\, United States
CATEGORIES:City Council,City Council,Meetings
ATTACH;FMTTYPE=image/jpeg:https://wethepeoplelaketravis.com/wp-content/uploads/2022/05/New-Banner.jpg
END:VEVENT
BEGIN:VEVENT
DTSTART;TZID=America/Chicago:20220530T100000
DTEND;TZID=America/Chicago:20220530T120000
DTSTAMP:20260421T135032
CREATED:20220510T154848Z
LAST-MODIFIED:20220510T154848Z
UID:5088-1653904800-1653912000@wethepeoplelaketravis.com
SUMMARY:Memorial Day Ceremony
DESCRIPTION:PROGRAM\nPresentation of the Colors: Lake Travis Honor Guard (Lake Travis Fire Rescue) \nPledge of Allegiance: Alice Scarbrough\, Regent with Lohmann’s Ford Chapter of the NSDAR \nSpecial Music ‘National Anthem’: Lakeway Sing Along \nInvocation: Very Rev. David M. Liebham\, Emmaus Catholic Parish \nWelcome: Mayor Tom Kilgore \nGuest Speaker: Brig Gen Richard T. Drury\, USAF (Ret.) \nPresentation of the Memorial Wreath: Alice Scarbrough\, Regent with Lohmann’s Ford Chapter of the NSDAR \nSpecial Music ‘God Bless The USA’: Lakeway Sing Along \nTAPS: Chase Fisher\, Lake Travis High School \nRetire the Colors: Lake Travis Honor Guard (Lake Travis Fire Rescue) \nBenediction: Sr. Pastor Larry Coulter\, Lakeway Church \nSpecial Music ‘God Bless America’: Lakeway Sing Along
URL:https://wethepeoplelaketravis.com/events/memorial-day-ceremony/
LOCATION:Emmaus Catholic Church\, 1718 Lohmans Crossing Road\, Lakeway\, TX\, 78734\, United States
CATEGORIES:City Council,Events
ATTACH;FMTTYPE=image/jpeg:https://wethepeoplelaketravis.com/wp-content/uploads/2022/05/memorial-day-images1.jpg
END:VEVENT
BEGIN:VEVENT
DTSTART;TZID=America/Chicago:20220516T183000
DTEND;TZID=America/Chicago:20220516T220000
DTSTAMP:20260421T135032
CREATED:20220510T153459Z
LAST-MODIFIED:20220510T153459Z
UID:5082-1652725800-1652738400@wethepeoplelaketravis.com
SUMMARY:City of Lakeway monthly meeting
DESCRIPTION:Agenda will be posted as soon as available
URL:https://wethepeoplelaketravis.com/events/city-of-lakeway-monthly-meeting/
LOCATION:Lakeway City Hall\, 1102 Lohmans Crossing Road\, Lakeway\, TX\, 78734\, United States
CATEGORIES:City Council,Meetings
ATTACH;FMTTYPE=image/jpeg:https://wethepeoplelaketravis.com/wp-content/uploads/2022/05/New-Banner.jpg
END:VEVENT
BEGIN:VEVENT
DTSTART;TZID=America/Chicago:20220507T070000
DTEND;TZID=America/Chicago:20220507T190000
DTSTAMP:20260421T135032
CREATED:20220405T004528Z
LAST-MODIFIED:20220505T032227Z
UID:3514-1651906800-1651950000@wethepeoplelaketravis.com
SUMMARY:Local Election Day (School Board and City Council)
DESCRIPTION:WTP recommendations for school board candidates at LTISD
URL:https://wethepeoplelaketravis.com/events/local-municipal-election-day/
LOCATION:TX
CATEGORIES:City Council,School Board,Voting
ATTACH;FMTTYPE=image/jpeg:https://wethepeoplelaketravis.com/wp-content/uploads/2022/01/AdobeStock_259491434_Preview.jpeg
END:VEVENT
BEGIN:VEVENT
DTSTART;TZID=America/Chicago:20220421T173000
DTEND;TZID=America/Chicago:20220421T183000
DTSTAMP:20260421T135032
CREATED:20220421T191722Z
LAST-MODIFIED:20220421T191722Z
UID:4323-1650562200-1650565800@wethepeoplelaketravis.com
SUMMARY:City of Lakeway Townhall on transportation
DESCRIPTION:City Manager Julie Oakley will give an update on the latest upcoming and proposed transportation projects throughout Lakeway\, including potential roadway projects\, repair work and sidewalk improvement projects. Have a question you would like addressed? Email us at info@lakeway-tx.gov or bring your questions in-person to be answered at this special meeting.
URL:https://wethepeoplelaketravis.com/events/city-of-lakeway-townhall-on-transportation/
LOCATION:Lakeway Activity Center\, 105 Cross Creek Lakeway\, TX 78734
CATEGORIES:City Council,City Council,Events,Meetings
ATTACH;FMTTYPE=image/jpeg:https://wethepeoplelaketravis.com/wp-content/uploads/2022/02/cropped-AdobeStock_302174916-scaled-1.jpeg
END:VEVENT
BEGIN:VEVENT
DTSTART;TZID=America/Chicago:20220317T090000
DTEND;TZID=America/Chicago:20220317T090000
DTSTAMP:20260421T135032
CREATED:20220308T003002Z
LAST-MODIFIED:20220315T204839Z
UID:942-1647507600-1647507600@wethepeoplelaketravis.com
SUMMARY:City of Lakeway\,  Board of Ethics committee meeting Regarding Laurie Higgenbothem
DESCRIPTION:Complaint filed against Laurie Higgenbothem and her letters to the school board and administration using City Council Letterhead.\nNOTICE IS HEREBY GIVEN THAT THE\nBOARD OF ETHICS\nOF THE CITY OF LAKEWAY\, TRAVIS COUNTY\, TEXAS WILL MEET ON\nThursday\, March 17\, 2022 at 9:00 A.M.\nLakeway City Hall\, 1102 LOHMANS CROSSING\, LAKEWAY\, TEXAS.\nAGENDA\n1. Call to order and establish quorum.\n2. Citizen participation for items not on the agenda.\n3. Consideration and possible action on subcommittee report for complaint filed by Tony\nO’Berle on February 11\, 2022.\n• Citizen participation.\n• Board discussion/action.\n4. Review Code of Ethics\, Section 2.04.031 for recommendation to city council.\n• Report by City Attorney Cobby Caputo.\n• Citizen participation.\n• Board discussion/action.\n5. Adjourn.\nThe Board of Ethics may adjourn into Executive Session at any time during the course of this\nmeeting to discuss any matters listed on the agenda\, as authorized by the Texas Government\nCode including\, but not limited to\, Sections: 551.071 (Consultation with Attorney)\, 551.072\n(Deliberations about Real Property)\, 551.073 (Deliberations about Gifts and Donations)\, 551.074\n(Personnel Matters)\, 551.076 (Deliberations about Security Devices)\, 551.087 (Economic\nDevelopment)\, 418.183 (Deliberations about Homeland Security Issues) and as authorized by the\nTexas Tax Code including\, but not limited to\, Section 321.3022 (Sales Tax Information).
URL:https://wethepeoplelaketravis.com/events/lakeway-city-council-meeting/
LOCATION:Lakeway City Hall\, 1102 Lohmans Crossing Road\, Lakeway\, TX\, 78734\, United States
CATEGORIES:City Council,Events
ATTACH;FMTTYPE=image/jpeg:https://wethepeoplelaketravis.com/wp-content/uploads/2022/01/cropped-AdobeStock_259491434_Preview.jpeg
END:VEVENT
BEGIN:VEVENT
DTSTART;TZID=America/Chicago:20220308T180000
DTEND;TZID=America/Chicago:20220308T180000
DTSTAMP:20260421T135032
CREATED:20220308T042352Z
LAST-MODIFIED:20220308T153030Z
UID:2217-1646762400-1646762400@wethepeoplelaketravis.com
SUMMARY:City of Bee Cave Council Meeting
DESCRIPTION:
URL:https://wethepeoplelaketravis.com/events/city-of-bee-cave-council-meeting/
LOCATION:Bee Cave City Hall\, 4000 Galleria Parkway\, Beecave\, Texas\, 78738
CATEGORIES:City Council,City Council,Events
END:VEVENT
END:VCALENDAR