BEGIN:VCALENDAR
VERSION:2.0
PRODID:-//We the People | Lake Travis - ECPv6.15.20//NONSGML v1.0//EN
CALSCALE:GREGORIAN
METHOD:PUBLISH
X-ORIGINAL-URL:https://wethepeoplelaketravis.com
X-WR-CALDESC:Events for We the People | Lake Travis
REFRESH-INTERVAL;VALUE=DURATION:PT1H
X-Robots-Tag:noindex
X-PUBLISHED-TTL:PT1H
BEGIN:VTIMEZONE
TZID:America/Chicago
BEGIN:DAYLIGHT
TZOFFSETFROM:-0600
TZOFFSETTO:-0500
TZNAME:CDT
DTSTART:20240310T080000
END:DAYLIGHT
BEGIN:STANDARD
TZOFFSETFROM:-0500
TZOFFSETTO:-0600
TZNAME:CST
DTSTART:20241103T070000
END:STANDARD
BEGIN:DAYLIGHT
TZOFFSETFROM:-0600
TZOFFSETTO:-0500
TZNAME:CDT
DTSTART:20250309T080000
END:DAYLIGHT
BEGIN:STANDARD
TZOFFSETFROM:-0500
TZOFFSETTO:-0600
TZNAME:CST
DTSTART:20251102T070000
END:STANDARD
BEGIN:DAYLIGHT
TZOFFSETFROM:-0600
TZOFFSETTO:-0500
TZNAME:CDT
DTSTART:20260308T080000
END:DAYLIGHT
BEGIN:STANDARD
TZOFFSETFROM:-0500
TZOFFSETTO:-0600
TZNAME:CST
DTSTART:20261101T070000
END:STANDARD
END:VTIMEZONE
BEGIN:VEVENT
DTSTART;VALUE=DATE:20250810
DTEND;VALUE=DATE:20251001
DTSTAMP:20260419T165044
CREATED:20250810T190921Z
LAST-MODIFIED:20251008T225337Z
UID:355376-1754784000-1759276799@wethepeoplelaketravis.com
SUMMARY:Buck Up Relief Mission for Victims of the Texas floods
DESCRIPTION:We the People Lake Travis has volunteers working with and collaborating with some great organizations who are providing service to the Leander / Sandy Creek area. \nThe mission of Buck Up Relief is to Fill-a-Truck and transport critical resources to various disaster affected communities quickly. The Buck Up Relief team\, in collaboration with our network of partners\, provide and facilitate various types of aid to disaster areas such as: delivery of food\, water\, basic supplies\, shelter\, storage\, feed for animals\, search and rescue\, medical aid\, provide critical infrastructure equipment and materials to clean-up\, rebuild and restore access to damaged areas. The nuts & bolts of our mission assist with hitchin’ up & fillin’ up the wagons. We are gathering the needed resources through generous partners to deliver to trusted boots on the ground partners that are trained to deliver various aid\, each filling in the gaps to help the whole mission work. Our partners get their boots and gloves dirty\, directly helping to bring healing and hope to these devastated hearts in need. Our entire team of partners all have one common goal\, to bring wholeness and growth back into these communities. \nThe Buck Up Relief mission works like a Wagon Wheel\, there are many spokes\, each one represents the response aid that our team and many partners are able to provide in disaster situations. Working perfectly together with unity and love to accomplish each mission put before us. Every single Buck (gift)\, talent\, amount of time and ounce of love helps to fill in the gaps of the whole mission. Ephesians 4:16\, is the heart or “hub” of what makes this massive wheel roll perfectly down every road and in between\, from mountain to mountain\, from border to border\, from sea to shining sea! It is our desire to make a difference in each persons’ heart that we meet. We strive to help find an answer to someone’s prayer for help and give hope by providing aid from a community of partners that know how to get er’ done! \nCome partner with us to Buck Up & Fill-A-Truck! By partnering with us\, you too can be a part of each “Mission” and touch thousands of lives for the common good. \nThe Hub: Ephesians 4:16 He makes the whole body fit together perfectly. As each part does its own special work\, it helps the other parts grow\, so that the whole body is healthy\, growing and full of love. \nEvery buck (gift) helps us fill in the gaps to make the overall Buck Up Relief Mission possible. \nVisit us at: www.GiveSendGo.com/BuckUp or BuckUpReliefMission.NET \nThe Nuts & Bolts: Buck Up Team \nBacked by Banners 4 Freedom Ministries\, 508(c)(1)(a) Non-Profit Ministry in accordance with Title 26 USC section 5 \nThe Nuts: Vincent Saben\, Robert & Jaime’ Agee\, AJ Andrews & Marvin Cote \nThe Bolts: Texas Red\, JT w/Freedom Patriot Network\, Sandra w/Coffee Talks with Sandra\, Melanie Brown & Joshua James Lawrence \nPARTNERS: \nRemnant Ministry TX\, In His Presence Global Ministry\, Jesus Encounter Ministries\, Truckin’ 4 Troops\, Remnant Revolution Tour\, Coffee Talks with Sandra\, Patriot Party News\, FqxHole Foundation\, Coldspring Logging\, Cornerstone Children’s Ranch\, Republic of Texas\, A Hand From Above\, UnRedacted Media\, 1st Amendment Film Fest\, Holistic Impressions\, The Flame\, Ezekiel Herbals\, Ardis Labs\, Graith Care\, The Diary of a Pissed of Solider\, Project 314\, Choice Media\, My Pillow\, The Resistance Chicks\, & The American Gulag Chronicles\, Trucking for America\, Native Way Transportation\, LLC\, Beyond the Limits – DJ Services\, Freedom Patriot Network\, \, True Blue Specialized Transportation\, Illinois Freedom Alliance & Rock Island County Republicans\, Weston Works for You\, New California State Movement\, Taking America Back\, Get on the Ark\, The Flame\, Freedom IV & Wellness\, Grassroots Quarterly\, Sovereign Radio\, American X Live\, Take Our Border Back\, The Resistance Chicks\, God In a Nutshell Project\, Boardwalk Certified Appraisers\, LLC & Stacks Glass\, Inc.
URL:https://wethepeoplelaketravis.com/events/buck-up-relief-mission-for-victims-of-the-texas-floods/
CATEGORIES:Events,Meetings
ATTACH;FMTTYPE=image/png:https://wethepeoplelaketravis.com/wp-content/uploads/2025/08/fe96e791c02ff063bc97fcfa1447bb79.png
END:VEVENT
BEGIN:VEVENT
DTSTART;TZID=America/Chicago:20250811T183000
DTEND;TZID=America/Chicago:20250811T200000
DTSTAMP:20260419T165044
CREATED:20250810T165148Z
LAST-MODIFIED:20250810T165148Z
UID:355350-1754937000-1754942400@wethepeoplelaketravis.com
SUMMARY:True Texas Project Monthly Meeting
DESCRIPTION:Joining us this month at True Texas Project is Stewart Rhodes\, with Condemned USA. There are countless heart wrenching stories that we have all heard following the events of January 6th. Our Department of Justice has been operating in anti-constitutional and tyrannical ways\, but all hope is not lost. Condemned USA is a legal advocacy group dedicated to defending constitutional rights and ensuring fair treatment for those facing political persecution. It provides legal support\, public advocacy\, and educational resources for individuals and families affected by government overreach and judicial bias.“At Condemned USA\, we stand with those who have been unjustly condemned by a weaponized legal system. Through comprehensive legal representation\, grassroots advocacy\, and community support\, we fight for the rights of every American to receive a fair trial and proper legal defense. Our team is comprised of experienced attorneys\, legal experts\, and passionate advocates committed to challenging the abuses of power that threaten our democracy.”\nSpeaker: Stewart RhodesMonday\, August 11Grace Outreach Family Church\, 20808 #A Hwy 71 West Spicewood\, TX 786696:00pm – Prayer gathering (open to all)6:30-8:00pm – meetingNo dues. No fees. No memberships. No RSVPs\nAbout Stewart Rhodes:Stewart Rhodes is a US Army paratrooper disabled veteran (airborne long range reconnaissance unit\, disabled in a night jump while doing rough terrain parachuting). He is an Ex-firefighter\, Yale Law Graduate\, and Yale Law research scholar. He worked on DC staff of Congressman Ron Paul\, and clerked for the Arizona Supreme Court. He is the founder of Oath Keepers (association of military\, police\, firefighters\, EMS – 40\,000 members at its peak)\, and was an innocent J6 political prisoner. Held in solitary confinement for over a year (including pre-trial)\, he refused to plead guilty to a crime he didn’t commit\, refused to bear false witness against President Trump\, and maintained his innocence through a DC show trial. Stewart stayed 100% loyal to our country and to President Trump and was sentenced to 18 years. He served 3 years in prison\, then was commuted by President Trump on Jan 20\, 2025. He is now praying for a full pardon.\nCurrently\, he is the national spokesman for Condemned USA.\nTo help Stewart rebuild his life and drive on with his mission\, please donate here: www.givesendgo.com/GAF5BTo donate to Condemned USA: www.givesendgo.com/CUSASocial media:X: @CondemnedUSAFacebook: Stewart RhodesRumble: okstewartrhodesSubstack: stewartrhodes.substack.com
URL:https://wethepeoplelaketravis.com/events/true-texas-project-monthly-meeting-12/
LOCATION:Grace Outreach Family Church\, 20808 Highway 71\, Spicewood\, Texas\, 78669
CATEGORIES:Events,Meetings
ATTACH;FMTTYPE=image/png:https://wethepeoplelaketravis.com/wp-content/uploads/2025/08/unnamed-23.png
END:VEVENT
END:VCALENDAR