BEGIN:VCALENDAR
VERSION:2.0
PRODID:-//We the People | Lake Travis - ECPv6.15.20//NONSGML v1.0//EN
CALSCALE:GREGORIAN
METHOD:PUBLISH
X-ORIGINAL-URL:https://wethepeoplelaketravis.com
X-WR-CALDESC:Events for We the People | Lake Travis
REFRESH-INTERVAL;VALUE=DURATION:PT1H
X-Robots-Tag:noindex
X-PUBLISHED-TTL:PT1H
BEGIN:VTIMEZONE
TZID:America/Chicago
BEGIN:DAYLIGHT
TZOFFSETFROM:-0600
TZOFFSETTO:-0500
TZNAME:CDT
DTSTART:20230312T080000
END:DAYLIGHT
BEGIN:STANDARD
TZOFFSETFROM:-0500
TZOFFSETTO:-0600
TZNAME:CST
DTSTART:20231105T070000
END:STANDARD
BEGIN:DAYLIGHT
TZOFFSETFROM:-0600
TZOFFSETTO:-0500
TZNAME:CDT
DTSTART:20240310T080000
END:DAYLIGHT
BEGIN:STANDARD
TZOFFSETFROM:-0500
TZOFFSETTO:-0600
TZNAME:CST
DTSTART:20241103T070000
END:STANDARD
BEGIN:DAYLIGHT
TZOFFSETFROM:-0600
TZOFFSETTO:-0500
TZNAME:CDT
DTSTART:20250309T080000
END:DAYLIGHT
BEGIN:STANDARD
TZOFFSETFROM:-0500
TZOFFSETTO:-0600
TZNAME:CST
DTSTART:20251102T070000
END:STANDARD
END:VTIMEZONE
BEGIN:VEVENT
DTSTART;TZID=America/Chicago:20241026T103000
DTEND;TZID=America/Chicago:20241026T170000
DTSTAMP:20260420T152707
CREATED:20241021T211240Z
LAST-MODIFIED:20241021T211458Z
UID:253199-1729938600-1729962000@wethepeoplelaketravis.com
SUMMARY:Texas-Sized Trump Train & Cruz Convoy
DESCRIPTION:If you’re looking for a Trump train this might be the one for you! \nLake Travis’ amazing Trump impersonator will be there! \nhttps://texassizedtrumptrainandcruzcon.godaddysites.com/
URL:https://wethepeoplelaketravis.com/events/texas-sized-trump-train-cruz-convoy/
CATEGORIES:Events,Political Rallys
ATTACH;FMTTYPE=image/jpeg:https://wethepeoplelaketravis.com/wp-content/uploads/2024/10/signal-2024-10-15-192619_002.jpeg
END:VEVENT
BEGIN:VEVENT
DTSTART;TZID=America/Chicago:20241026T173000
DTEND;TZID=America/Chicago:20241026T220000
DTSTAMP:20260420T152707
CREATED:20240806T195927Z
LAST-MODIFIED:20240806T200019Z
UID:214808-1729963800-1729980000@wethepeoplelaketravis.com
SUMMARY:15th ANNUAL "BACK THE BLUE" GALA
DESCRIPTION:The Lakeway Police Foundation and Covert Bee Cave invite you to the “2024 Back The Blue Gala” on October 26th\, 2023 at The Lakeway Resort in the Vistas Ballroom for an evening of celebrating our officers of Lakeway Police Department. https://betterunite.com/thelakewaypolicefoundation-2024backthebluegala
URL:https://wethepeoplelaketravis.com/events/15th-annual-back-the-blue-gala/
LOCATION:The Lakeway Inn\, 101 Lakeway Drive\, LAKEWAY\, TX\, 78734\, United States
CATEGORIES:Events,Meetings
ATTACH;FMTTYPE=image/png:https://wethepeoplelaketravis.com/wp-content/uploads/2024/08/unnamed-14.png
END:VEVENT
END:VCALENDAR