BEGIN:VCALENDAR
VERSION:2.0
PRODID:-//We the People | Lake Travis - ECPv6.15.20//NONSGML v1.0//EN
CALSCALE:GREGORIAN
METHOD:PUBLISH
X-WR-CALNAME:We the People | Lake Travis
X-ORIGINAL-URL:https://wethepeoplelaketravis.com
X-WR-CALDESC:Events for We the People | Lake Travis
REFRESH-INTERVAL;VALUE=DURATION:PT1H
X-Robots-Tag:noindex
X-PUBLISHED-TTL:PT1H
BEGIN:VTIMEZONE
TZID:America/Chicago
BEGIN:DAYLIGHT
TZOFFSETFROM:-0600
TZOFFSETTO:-0500
TZNAME:CDT
DTSTART:20230312T080000
END:DAYLIGHT
BEGIN:STANDARD
TZOFFSETFROM:-0500
TZOFFSETTO:-0600
TZNAME:CST
DTSTART:20231105T070000
END:STANDARD
BEGIN:DAYLIGHT
TZOFFSETFROM:-0600
TZOFFSETTO:-0500
TZNAME:CDT
DTSTART:20240310T080000
END:DAYLIGHT
BEGIN:STANDARD
TZOFFSETFROM:-0500
TZOFFSETTO:-0600
TZNAME:CST
DTSTART:20241103T070000
END:STANDARD
BEGIN:DAYLIGHT
TZOFFSETFROM:-0600
TZOFFSETTO:-0500
TZNAME:CDT
DTSTART:20250309T080000
END:DAYLIGHT
BEGIN:STANDARD
TZOFFSETFROM:-0500
TZOFFSETTO:-0600
TZNAME:CST
DTSTART:20251102T070000
END:STANDARD
END:VTIMEZONE
BEGIN:VEVENT
DTSTART;VALUE=DATE:20240723
DTEND;VALUE=DATE:20241021
DTSTAMP:20260421T052455
CREATED:20240717T211455Z
LAST-MODIFIED:20241008T024335Z
UID:214717-1721692800-1729468799@wethepeoplelaketravis.com
SUMMARY:Become an Election Worker!!
DESCRIPTION:Travis County recently posted temporary election positions.  This is a great opportunity for retirees to get involved in all aspects of the election\, including driving a box truck of supplies\, working the polls\, working with mail-in ballots\, etc.  Please consider this part-time work as an effort to secure our elections.  Go HERE to find more information.
URL:https://wethepeoplelaketravis.com/events/become-an-election-worker/
LOCATION:VENUE: AMERICA
CATEGORIES:Events,Important Election Dates,Meetings,Voting
ATTACH;FMTTYPE=image/png:https://wethepeoplelaketravis.com/wp-content/uploads/2024/07/unnamed-43.png
END:VEVENT
BEGIN:VEVENT
DTSTART;VALUE=DATE:20240920
DTEND;VALUE=DATE:20240922
DTSTAMP:20260421T052455
CREATED:20240806T201256Z
LAST-MODIFIED:20240806T201256Z
UID:214821-1726790400-1726963199@wethepeoplelaketravis.com
SUMMARY:2024 Texas Youth Summit
DESCRIPTION:The 2024 Texas Youth Summit will be hosted at The Woodlands Marriott. Many of the nation’s top conservative speakers are slated to speak at the Summit\, including Donald Trump Jr.\, Kimberly Guilfoyle\, Riley Gaines\, Texas Youth Summit Founder and President – Christian Collins\, Congressman Wesley Hunt\, Congressman Lauren Boebert\, Congressman Troy Nehls\, Mayra Flores\, Brandon Gill\, Daniel D’Souza Gill\, Trump Advisor – Alex Bruesewitz\, Libs of TikTok Founder – Chaya Raichik\, Jaco Booyens\, CEO of PublicSquare – Michael Seifert\, Reverend Rafael Cruz. Esteemed panelists: State Rep. Steve Toth\, State. Rep. Brian Harrison\, State Rep. Nate Shatzline\, Jonathan Saenz\, social media influencer – Lily Kate\, Dr. Carrie Butler\, talk radio host – Kenny Webster\, Cindy Siegel\, and Charles Blain. \nDoors open at 2PM on Friday\, September 20th. Leadership Institute will host a training at 3PM\, followed by the Patriots Dinner for sponsors\, donors\, and high-end ticket purchasers at 4:30. The Texas Youth Summit program starts at 6PM. \nDoors open at 7AM on Saturday\, September 21st. Program starts at 8AM. \nhttps://www.eventbrite.com/e/2024-texas-youth-summit-tickets-879561551277?aff=oddtdtcreator
URL:https://wethepeoplelaketravis.com/events/2024-texas-youth-summit/
LOCATION:The Woodlands Marriott\, 1601 Lake Robbins Dr\, 77380
CATEGORIES:Events,Meetings
ATTACH;FMTTYPE=image/png:https://wethepeoplelaketravis.com/wp-content/uploads/2024/08/Screenshot-2024-08-06-150707.png
END:VEVENT
END:VCALENDAR