BEGIN:VCALENDAR
VERSION:2.0
PRODID:-//We the People | Lake Travis - ECPv6.15.20//NONSGML v1.0//EN
CALSCALE:GREGORIAN
METHOD:PUBLISH
X-ORIGINAL-URL:https://wethepeoplelaketravis.com
X-WR-CALDESC:Events for We the People | Lake Travis
REFRESH-INTERVAL;VALUE=DURATION:PT1H
X-Robots-Tag:noindex
X-PUBLISHED-TTL:PT1H
BEGIN:VTIMEZONE
TZID:America/Chicago
BEGIN:DAYLIGHT
TZOFFSETFROM:-0600
TZOFFSETTO:-0500
TZNAME:CDT
DTSTART:20210314T080000
END:DAYLIGHT
BEGIN:STANDARD
TZOFFSETFROM:-0500
TZOFFSETTO:-0600
TZNAME:CST
DTSTART:20211107T070000
END:STANDARD
BEGIN:DAYLIGHT
TZOFFSETFROM:-0600
TZOFFSETTO:-0500
TZNAME:CDT
DTSTART:20220313T080000
END:DAYLIGHT
BEGIN:STANDARD
TZOFFSETFROM:-0500
TZOFFSETTO:-0600
TZNAME:CST
DTSTART:20221106T070000
END:STANDARD
BEGIN:DAYLIGHT
TZOFFSETFROM:-0600
TZOFFSETTO:-0500
TZNAME:CDT
DTSTART:20230312T080000
END:DAYLIGHT
BEGIN:STANDARD
TZOFFSETFROM:-0500
TZOFFSETTO:-0600
TZNAME:CST
DTSTART:20231105T070000
END:STANDARD
END:VTIMEZONE
BEGIN:VEVENT
DTSTART;TZID=America/Chicago:20221010T183000
DTEND;TZID=America/Chicago:20221010T200000
DTSTAMP:20260419T112659
CREATED:20220928T001202Z
LAST-MODIFIED:20220928T001202Z
UID:24456-1665426600-1665432000@wethepeoplelaketravis.com
SUMMARY:True Texas Project Meeting
DESCRIPTION:True Texas Project is hosting a series of events this fall in order to prepare True Texans for the next legislative session. For this meeting we have invited a handful of our allied state legislators to participate in a panel discussion as a way of partnering with them and working towards accountability in the future. We will be discussing what their expectations are for the next legislative session\, what each person’s priorities will be as a representative of the people\, and then we will have a time of Q&A from the audience! This is a FREE opportunity to make your voice heard\, and to meet face to face with some of the men and women who will be representing the people of this great state.  \nAbout Bryan Slaton: \nBorn in Mineola\, Texas\, Bryan Slaton is a proud East Texan with values and principles that represent the great people of East Texas. These values were formed as he grew up regularly participating in church and family gatherings. Bryan attended Ouachita Baptist University\, where he earned a double major in Youth Ministry/Speech Communication. He then attended Southwestern Baptist Theological Seminary and earned a Masters of Divinity with Biblical Languages. He served in the ministry as a Youth and Family Minister for 13 years. \nContinuing his education\, Bryan graduated from The University of North Texas\, where he earned a Bachelor degree in Business Administration Accounting. Bryan now works at the family business. \nBryan Slaton is passionate about helping the people of East Texas obtain and maintain a Government that is transparent\, protects liberty\, defends the sanctity of life and fulfills the will of the sovereign people of Texas. \nRepresentative Slaton enjoys hunting and shooting. Bryan and his wife\, Sharmen\, have been married for 3 years. They have a son\, Maximus\, and attend Fellowship Church – Royse City.
URL:https://wethepeoplelaketravis.com/events/true-texas-project-meeting-3/
LOCATION:VFW Meeting Hall\, 7614 Thomas Springs Rd\, Austin\, Texas\, 78736
CATEGORIES:Events,Meetings,Voting
ATTACH;FMTTYPE=image/jpeg:https://wethepeoplelaketravis.com/wp-content/uploads/2022/06/fb-share.jpg
END:VEVENT
END:VCALENDAR