BEGIN:VCALENDAR
VERSION:2.0
PRODID:-//We the People | Lake Travis - ECPv6.15.20//NONSGML v1.0//EN
CALSCALE:GREGORIAN
METHOD:PUBLISH
X-ORIGINAL-URL:https://wethepeoplelaketravis.com
X-WR-CALDESC:Events for We the People | Lake Travis
REFRESH-INTERVAL;VALUE=DURATION:PT1H
X-Robots-Tag:noindex
X-PUBLISHED-TTL:PT1H
BEGIN:VTIMEZONE
TZID:America/Chicago
BEGIN:DAYLIGHT
TZOFFSETFROM:-0600
TZOFFSETTO:-0500
TZNAME:CDT
DTSTART:20210314T080000
END:DAYLIGHT
BEGIN:STANDARD
TZOFFSETFROM:-0500
TZOFFSETTO:-0600
TZNAME:CST
DTSTART:20211107T070000
END:STANDARD
BEGIN:DAYLIGHT
TZOFFSETFROM:-0600
TZOFFSETTO:-0500
TZNAME:CDT
DTSTART:20220313T080000
END:DAYLIGHT
BEGIN:STANDARD
TZOFFSETFROM:-0500
TZOFFSETTO:-0600
TZNAME:CST
DTSTART:20221106T070000
END:STANDARD
BEGIN:DAYLIGHT
TZOFFSETFROM:-0600
TZOFFSETTO:-0500
TZNAME:CDT
DTSTART:20230312T080000
END:DAYLIGHT
BEGIN:STANDARD
TZOFFSETFROM:-0500
TZOFFSETTO:-0600
TZNAME:CST
DTSTART:20231105T070000
END:STANDARD
END:VTIMEZONE
BEGIN:VEVENT
DTSTART;TZID=America/Chicago:20220815T183000
DTEND;TZID=America/Chicago:20220815T203000
DTSTAMP:20260421T071612
CREATED:20220726T213147Z
LAST-MODIFIED:20220818T171642Z
UID:13000-1660588200-1660595400@wethepeoplelaketravis.com
SUMMARY:City of Lakeway City Council Regular Meeting
DESCRIPTION:Stratus is the developer of the land behind the Lakeway HEB. It was originally zoned for a low density residential tract. Stratus is asking for an amendment to include: 261 apartment units on the south side of Main Street and 28 townhouses. \nThe meeting starts at 6:30pm. This agenda item is #17 https://lakeway-tx.civicweb.net/Portal/MeetingInformation.aspx?Org=Cal&Id=147 . If you would like to speak on this item\, I recommend being there by 7:30pm. You can sign up when you get to the meeting\, but the Mayor typically takes all public comment\, even if you are not signed up to speak. You are given 3 minutes to address Council. They will likely vote on this proposal\, so if you have something to say\, I suggest showing up and speaking. \nIf you cannot make the meeting\, but you would like to submit a comment\, you can email the Council at the email addresses found here https://www.lakeway-tx.gov/100/Mayor-City-Council
URL:https://wethepeoplelaketravis.com/events/city-of-lakeway-city-council-regular-meeting/
LOCATION:Lakeway City Hall\, 1102 Lohmans Crossing Road\, Lakeway\, TX\, 78734\, United States
CATEGORIES:City Council,City Council,Meetings
ATTACH;FMTTYPE=image/jpeg:https://wethepeoplelaketravis.com/wp-content/uploads/2022/05/city-of-lakeway-logo-1.jpg
END:VEVENT
END:VCALENDAR