BEGIN:VCALENDAR
VERSION:2.0
PRODID:-//We the People | Lake Travis - ECPv6.15.20//NONSGML v1.0//EN
CALSCALE:GREGORIAN
METHOD:PUBLISH
X-WR-CALNAME:We the People | Lake Travis
X-ORIGINAL-URL:https://wethepeoplelaketravis.com
X-WR-CALDESC:Events for We the People | Lake Travis
REFRESH-INTERVAL;VALUE=DURATION:PT1H
X-Robots-Tag:noindex
X-PUBLISHED-TTL:PT1H
BEGIN:VTIMEZONE
TZID:America/Chicago
BEGIN:DAYLIGHT
TZOFFSETFROM:-0600
TZOFFSETTO:-0500
TZNAME:CDT
DTSTART:20210314T080000
END:DAYLIGHT
BEGIN:STANDARD
TZOFFSETFROM:-0500
TZOFFSETTO:-0600
TZNAME:CST
DTSTART:20211107T070000
END:STANDARD
BEGIN:DAYLIGHT
TZOFFSETFROM:-0600
TZOFFSETTO:-0500
TZNAME:CDT
DTSTART:20220313T080000
END:DAYLIGHT
BEGIN:STANDARD
TZOFFSETFROM:-0500
TZOFFSETTO:-0600
TZNAME:CST
DTSTART:20221106T070000
END:STANDARD
BEGIN:DAYLIGHT
TZOFFSETFROM:-0600
TZOFFSETTO:-0500
TZNAME:CDT
DTSTART:20230312T080000
END:DAYLIGHT
BEGIN:STANDARD
TZOFFSETFROM:-0500
TZOFFSETTO:-0600
TZNAME:CST
DTSTART:20231105T070000
END:STANDARD
END:VTIMEZONE
BEGIN:VEVENT
DTSTART;TZID=America/Chicago:20220804T080000
DTEND;TZID=America/Chicago:20220807T170000
DTSTAMP:20260423T080622
CREATED:20220710T195852Z
LAST-MODIFIED:20220710T200226Z
UID:9888-1659600000-1659891600@wethepeoplelaketravis.com
SUMMARY:CPAC Texas 2022
DESCRIPTION:Join us August 4-7\, 2022 \nThe Conservative Political Action Conference is the largest and most influential gathering of conservatives in the world. Launched in 1974\, CPAC brings together hundreds of conservative organizations\, thousands of activists\, millions of viewers and the best and brightest leaders in the world.
URL:https://wethepeoplelaketravis.com/events/cpac-texas-2022/
LOCATION:Hilton Anatole\, Hilton Anatole
ATTACH;FMTTYPE=image/png:https://wethepeoplelaketravis.com/wp-content/uploads/2022/07/image.png
END:VEVENT
END:VCALENDAR